BEGIN_USGS_DOQ_HEADER *
QUADRANGLE_NAME "SPENCER CREEK" 3.45 or 7.5-min. name*
QUADRANT SW quadrant indicator if cell size = 3.75-minutes*
WEST_LONGITUDE -120 7 30.000 signed deg min sec SDDD MM SS.SSS*
EAST_LONGITUDE -120 3 45.000 signed deg min sec SDDD MM SS.SSS*
NORTH_LATITUDE 40 18 45.000 signed deg min sec SDDD MM SS.SSS*
SOUTH_LATITUDE 40 15 0.000 signed deg min sec SDDD MM SS.SSS*
PRODUCTION_DATE 1997 1 23 yyyy mm dd*
RASTER_ORDER LEFT_RIGHT/TOP_BOTTOM video display order*
BAND_ORGANIZATION "SINGLE FILE" single file or BSQ, or BIL or BIP*
BAND_CONTENT BLACK&WHITE black&white or red green blue*
BITS_PER_PIXEL 8 radiometric resolution*
SAMPLES_AND_LINES 6232 7729 number of columns and rows*
HORIZONTAL_DATUM NAD83 primary horizontal datum*
HORIZONTAL_COORDINATE_SYSTEM UTM *
COORDINATE_ZONE 10 coordinate system zone number*
HORIZONTAL_UNITS METERS coordinate system units*
HORIZONTAL_RESOLUTION 1.00 pixel horiz. ground sample distance*
SECONDARY_HORIZONTAL_DATUM NAD27 secondary horizontal datum*
XY_ORIGIN 743914.000 4466885.000 coord. of upper left pixel pri. datum*
SECONDARY_XY_ORIGIN 744008.000 4466689.000 coord upper left pixel sec datum*
NATION US nation code*
STATE CA state fip code*
NW_QUAD_CORNER_XY 744303.665 4466409.842 XY coords. of pri. NW quad corner*
NE_QUAD_CORNER_XY 749615.372 4466584.302 XY coords. of pri. NE quad corner*
SE_QUAD_CORNER_XY 749845.576 4459645.564 XY coords. of pri. SE quad corner*
SW_QUAD_CORNER_XY 744528.961 4459471.168 XY coords. of pri. SW quad corner*
SECONDARY_NW_QUAD_XY 744310.134 4466199.304 XY coords. - sec. NW quad cor.*
SECONDARY_NE_QUAD_XY 749621.982 4466373.769 XY coords. - sec. NE quad cor.*
SECONDARY_SE_QUAD_XY 749852.182 4459435.150 XY coords. - sec. SE quad cor.*
SECONDARY_SW_QUAD_XY 744535.427 4459260.750 XY coords. - sec. SW quad cor.*
RMSE_XY 1.40 doq horiz. accuracy*
IMAGE_SOURCE "BLACK AND WHITE FILM" b&w, cir, natural color, other*
SOURCE_IMAGE_ID "NAPP 6203 057" source image id*
SOURCE_IMAGE_DATE 1993 7 8 source image date as yyyy mm dd*
SOURCE_DEM_DATE 1997 1 23 source dem date yyyy mm dd*
AGENCY "WESTERN MAPPING CENTER (WMC)" oversight agency*
PRODUCER "WMC" producer/contractor*
PRODUCTION_SYSTEM "DV2.6.3 10/9OV2.4 5/95" production system*
STANDARD_VERSION 1996 12 version of DOQ standard*
METADATA_DATE 1997 11 8 date created or changed, yyyy mm dd*
DATA_FILE_SIZE 48173360 data set size in bytes*
BYTE_COUNT 6232 header byte count* * * * * * * * * * * * * * * * * * * * * * * * * * * * * * * * * * *
END_USGS_HEADER *
