BEGIN_USGS_DOQ_HEADER *
QUADRANGLE_NAME "WENDEL HOT SPRINGS" 3.45 or 7.5-min. name*
QUADRANT NE quadrant indicator if cell size = 3.75-minutes*
WEST_LONGITUDE -120 18 45.000 signed deg min sec SDDD MM SS.SSS*
EAST_LONGITUDE -120 15 0.000 signed deg min sec SDDD MM SS.SSS*
NORTH_LATITUDE 40 22 30.000 signed deg min sec SDDD MM SS.SSS*
SOUTH_LATITUDE 40 18 45.000 signed deg min sec SDDD MM SS.SSS*
PRODUCTION_DATE 1997 1 23 yyyy mm dd*
RASTER_ORDER LEFT_RIGHT/TOP_BOTTOM video display order*
BAND_ORGANIZATION "SINGLE FILE" single file or BSQ, or BIL or BIP*
BAND_CONTENT BLACK&WHITE black&white or red green blue*
BITS_PER_PIXEL 8 radiometric resolution*
SAMPLES_AND_LINES 6212 7719 number of columns and rows*
HORIZONTAL_DATUM NAD83 primary horizontal datum*
HORIZONTAL_COORDINATE_SYSTEM UTM *
COORDINATE_ZONE 10 coordinate system zone number*
HORIZONTAL_UNITS METERS coordinate system units*
HORIZONTAL_RESOLUTION 1.00 pixel horiz. ground sample distance*
SECONDARY_HORIZONTAL_DATUM NAD27 secondary horizontal datum*
XY_ORIGIN 727768.000 4473312.000 coord. of upper left pixel pri. datum*
SECONDARY_XY_ORIGIN 727862.000 4473116.000 coord upper left pixel sec datum*
NATION US nation code*
STATE CA state fip code*
NW_QUAD_CORNER_XY 728157.980 4472847.570 XY coords. of pri. NW quad corner*
NE_QUAD_CORNER_XY 733464.630 4473010.810 XY coords. of pri. NE quad corner*
SE_QUAD_CORNER_XY 733680.390 4466072.200 XY coords. of pri. SE quad corner*
SW_QUAD_CORNER_XY 728368.830 4465909.020 XY coords. of pri. SW quad corner*
SECONDARY_NW_QUAD_XY 728164.030 4472636.900 XY coords. - sec. NW quad cor.*
SECONDARY_NE_QUAD_XY 733470.820 4472800.140 XY coords. - sec. NE quad cor.*
SECONDARY_SE_QUAD_XY 733686.580 4465861.650 XY coords. - sec. SE quad cor.*
SECONDARY_SW_QUAD_XY 728374.870 4465698.470 XY coords. - sec. SW quad cor.*
RMSE_XY 2.00 doq horiz. accuracy*
IMAGE_SOURCE "BLACK AND WHITE FILM" b&w, cir, natural color, other*
SOURCE_IMAGE_ID "NAPP 6214 211" source image id*
SOURCE_IMAGE_DATE 1993 7 27 source image date as yyyy mm dd*
SOURCE_DEM_DATE 1997 1 23 source dem date yyyy mm dd*
AGENCY "WESTERN MAPPING CENTER (WMC)" oversight agency*
PRODUCER "WMC" producer/contractor*
PRODUCTION_SYSTEM "DV2.6.3 10/9OV2.4 5/95" production system*
STANDARD_VERSION 1996 12 version of DOQ standard*
METADATA_DATE 1997 11 8 date created or changed, yyyy mm dd*
DATA_FILE_SIZE 47956640 data set size in bytes*
BYTE_COUNT 6212 header byte count* * * * * * * * * * * * * * * * * * * * * * * * * * * * * * * * * * *
END_USGS_HEADER *
