BEGIN_USGS_DOQ_HEADER *
QUADRANGLE_NAME "WENDEL HOT SPRINGS" 3.45 or 7.5-min. name*
QUADRANT SW quadrant indicator if cell size = 3.75-minutes*
WEST_LONGITUDE -120 22 30.000 signed deg min sec SDDD MM SS.SSS*
EAST_LONGITUDE -120 18 45.000 signed deg min sec SDDD MM SS.SSS*
NORTH_LATITUDE 40 18 45.000 signed deg min sec SDDD MM SS.SSS*
SOUTH_LATITUDE 40 15 0.000 signed deg min sec SDDD MM SS.SSS*
PRODUCTION_DATE 1997 1 24 yyyy mm dd*
RASTER_ORDER LEFT_RIGHT/TOP_BOTTOM video display order*
BAND_ORGANIZATION "SINGLE FILE" single file or BSQ, or BIL or BIP*
BAND_CONTENT BLACK&WHITE black&white or red green blue*
BITS_PER_PIXEL 8 radiometric resolution*
SAMPLES_AND_LINES 6212 7715 number of columns and rows*
HORIZONTAL_DATUM NAD83 primary horizontal datum*
HORIZONTAL_COORDINATE_SYSTEM UTM *
COORDINATE_ZONE 10 coordinate system zone number*
HORIZONTAL_UNITS METERS coordinate system units*
HORIZONTAL_RESOLUTION 1.00 pixel horiz. ground sample distance*
SECONDARY_HORIZONTAL_DATUM NAD27 secondary horizontal datum*
XY_ORIGIN 722667.000 4466210.000 coord. of upper left pixel pri. datum*
SECONDARY_XY_ORIGIN 722761.000 4466014.000 coord upper left pixel sec datum*
NATION US nation code*
STATE CA state fip code*
NW_QUAD_CORNER_XY 723057.305 4465749.596 XY coords. of pri. NW quad corner*
NE_QUAD_CORNER_XY 728368.827 4465909.020 XY coords. of pri. NE quad corner*
SE_QUAD_CORNER_XY 728579.402 4458970.528 XY coords. of pri. SE quad corner*
SW_QUAD_CORNER_XY 723262.975 4458811.162 XY coords. of pri. SW quad corner*
SECONDARY_NW_QUAD_XY 723063.212 4465539.040 XY coords. - sec. NW quad cor.*
SECONDARY_NE_QUAD_XY 728374.874 4465698.469 XY coords. - sec. NE quad cor.*
SECONDARY_SE_QUAD_XY 728585.446 4458760.096 XY coords. - sec. SE quad cor.*
SECONDARY_SW_QUAD_XY 723268.877 4458600.726 XY coords. - sec. SW quad cor.*
RMSE_XY 1.00 doq horiz. accuracy*
IMAGE_SOURCE "BLACK AND WHITE FILM" b&w, cir, natural color, other*
SOURCE_IMAGE_ID "NAPP 6210 091" source image id*
SOURCE_IMAGE_DATE 1993 7 9 source image date as yyyy mm dd*
SOURCE_DEM_DATE 1997 1 24 source dem date yyyy mm dd*
AGENCY "WESTERN MAPPING CENTER (WMC)" oversight agency*
PRODUCER "WMC" producer/contractor*
PRODUCTION_SYSTEM "DV2.6.3 10/9OV2.4 5/95" production system*
STANDARD_VERSION 1996 12 version of DOQ standard*
METADATA_DATE 1997 11 8 date created or changed, yyyy mm dd*
DATA_FILE_SIZE 47931792 data set size in bytes*
BYTE_COUNT 6212 header byte count* * * * * * * * * * * * * * * * * * * * * * * * * * * * * * * * * * *
END_USGS_HEADER *
