BEGIN_USGS_DOQ_HEADER *
QUADRANGLE_NAME "JANESVILLE" 3.45 or 7.5-min. name*
QUADRANT SE quadrant indicator if cell size = 3.75-minutes*
WEST_LONGITUDE -120 33 45.000 signed deg min sec SDDD MM SS.SSS*
EAST_LONGITUDE -120 30 0.000 signed deg min sec SDDD MM SS.SSS*
NORTH_LATITUDE 40 18 45.000 signed deg min sec SDDD MM SS.SSS*
SOUTH_LATITUDE 40 15 0.000 signed deg min sec SDDD MM SS.SSS*
PRODUCTION_DATE 2000 7 6 yyyy mm dd*
RASTER_ORDER left_right/top_bottom video display order*
BAND_ORGANIZATION "single file" single file or BSQ, or BIL or BIP*
BAND_CONTENT BLACK&WHITE black&white or red green blue*
BITS_PER_PIXEL 8 radiometric resolution*
SAMPLES_AND_LINES 6208 7712 number of columns and rows*
HORIZONTAL_DATUM NAD83 primary horizontal datum*
HORIZONTAL_COORDINATE_SYSTEM UTM *
COORDINATE_ZONE 10 coordinate system zone number*
HORIZONTAL_UNITS meters coordinate system units*
HORIZONTAL_RESOLUTION 1.00 pixel horiz. ground sample distance*
SECONDARY_HORIZONTAL_DATUM NAD27 secondary horizontal datum*
XY_ORIGIN 706728.000 4465748.000 coord. of upper left pixel pri. datum*
SECONDARY_XY_ORIGIN 706823.047 4465551.337 coord upper left pixel sec datum*
NATION US nation code*
STATE CA state fip code*
NW_QUAD_CORNER_XY 707122.997 4465293.868 XY coords. of pri. NW quad corner*
NE_QUAD_CORNER_XY 712434.391 4465442.020 XY coords. of pri. NE quad corner*
SE_QUAD_CORNER_XY 712630.251 4458503.698 XY coords. of pri. SE quad corner*
SW_QUAD_CORNER_XY 707313.953 4458355.600 XY coords. of pri. SW quad corner*
SECONDARY_NW_QUAD_XY 707128.481 4465083.300 XY coords. - sec. NW quad cor.*
SECONDARY_NE_QUAD_XY 712440.016 4465231.457 XY coords. - sec. NE quad cor.*
SECONDARY_SE_QUAD_XY 712635.872 4458293.254 XY coords. - sec. SE quad cor.*
SECONDARY_SW_QUAD_XY 707319.433 4458145.151 XY coords. - sec. SW quad cor.*
RMSE_XY 4.11 doq horiz. accuracy*
IMAGE_SOURCE "BLACK AND WHITE FILM" b&w, cir, natural color, other*
SOURCE_IMAGE_ID "NAPP 10507-260" source image id*
SOURCE_IMAGE_DATE 1998 8 25 source image date as yyyy mm dd*
SOURCE_DEM_DATE 1997 6 1 source dem date yyyy mm dd*
AGENCY "WESTERN MAPPING CENTER (WMC)" oversight agency*
PRODUCER "WOOLPERT LLP" producer/contractor*
PRODUCTION_SYSTEM "INTERGRAPH ISPM, ISIR" production system*
STANDARD_VERSION 1996 12 version of DOQ standard*
METADATA_DATE 2000 7 6 date created or changed, yyyy mm dd*
DATA_FILE_SIZE 47882304 data set size in bytes*
BYTE_COUNT 6208 header byte count* * * * * * * * * * * * * * * * * * * * * * * * * * * * * * * * * * *
END_USGS_HEADER *
