FILENAME: 40120D12
QUADRANGLE_NAME: BULL FLAT
QUADRANT: NE
WEST_LONGITUDE: -120 3 45.00000
EAST_LONGITUDE: -120 0 0.00000
NORTH_LATITUDE: 40 30 0.00000
SOUTH_LATITUDE: 40 26 15.00000
PRODUCTION_DATE: 2001 10 1
RASTER_ORDER: LEFT_RIGHT/TOP_BOTTOM
BAND_ORGANIZATION: SINGLE FILE
BAND_CONTENT: BLACK&WHITE
BAND_CONTENT: UNDEFINED
BAND_CONTENT: UNDEFINED
BITS_PER_PIXEL: 8
SAMPLES_AND_LINES: 6232 7742
HORIZONTAL_DATUM: NAD83
HORIZONTAL_COORDINATE_SYSTEM: UTM
COORDINATE_ZONE: 10
HORIZONTAL_UNITS: meters
HORIZONTAL_RESOLUTION: 1.00000
SECONDARY_HORIZONTAL_DATUM: NAD27
XY_ORIGIN: 748529.00000 4487885.00000
SECONDARY_XY_ORIGIN: 748623.65600 4487687.99000
NATION: US
STATE: CA
NW_QUAD_CORNER_XY: 748922.97000 4487400.84700
NE_QUAD_CORNER_XY: 754219.96000 4487579.25500
SE_QUAD_CORNERY_XY: 754455.98600 4480640.28900
SW_QUAD_CORNER_XY: 749154.06800 4480461.94300
SECONDARY_NW_QUAD_XY: 748929.59200 4487189.96100
SECONDARY_NE_QUAD_XY: 754226.72300 4487368.37500
SECONDARY_SE_QUAD_XY: 754462.74500 4480429.52500
SECONDARY_SW_QUAD_XY: 749160.68600 4480251.17400
RMSE_XY: 1.26000
IMAGE_SOURCE: BLACK AND WHITE FILM
SOURCE_IMAGE_ID: NAPP 10499-194
SOURCE_IMAGE_DATE: 1998 8 12
SOURCE_DEM_DATE: 1997 1 1
AGENCY: WESTERN MAPPING CENTER (WMC)
PRODUCER: WOOLPERT LLP
PRODUCTION_SYSTEM: INTERGRAPH ISPM, ISIR
COMPRESSION: UNDEFINED
STANDARD_VERSION: 1996 12
METADATA_DATE: 2001 10 4
DATA_FILE_SIZE: 48254376
BYTE_COUNT: 6232
