FILENAME: 40120D11
QUADRANGLE_NAME: BULL FLAT
QUADRANT: NW
WEST_LONGITUDE: -120 7 30.00000
EAST_LONGITUDE: -120 3 45.00000
NORTH_LATITUDE: 40 30 0.00000
SOUTH_LATITUDE: 40 26 15.00000
PRODUCTION_DATE: 2001 10 1
RASTER_ORDER: LEFT_RIGHT/TOP_BOTTOM
BAND_ORGANIZATION: SINGLE FILE
BAND_CONTENT: BLACK&WHITE
BAND_CONTENT: UNDEFINED
BAND_CONTENT: UNDEFINED
BITS_PER_PIXEL: 8
SAMPLES_AND_LINES: 6228 7738
HORIZONTAL_DATUM: NAD83
HORIZONTAL_COORDINATE_SYSTEM: UTM
COORDINATE_ZONE: 10
HORIZONTAL_UNITS: meters
HORIZONTAL_RESOLUTION: 1.00000
SECONDARY_HORIZONTAL_DATUM: NAD27
XY_ORIGIN: 743232.00000 4487706.00000
SECONDARY_XY_ORIGIN: 743326.67700 4487508.97000
NATION: US
STATE: CA
NW_QUAD_CORNER_XY: 743626.02600 4487226.20200
NE_QUAD_CORNER_XY: 748922.97000 4487400.84700
SE_QUAD_CORNERY_XY: 749154.06800 4480461.94300
SW_QUAD_CORNER_XY: 743852.19700 4480287.35900
SECONDARY_NW_QUAD_XY: 743632.50700 4487015.31200
SECONDARY_NE_QUAD_XY: 748929.59200 4487189.96100
SECONDARY_SE_QUAD_XY: 749160.68600 4480251.17400
SECONDARY_SW_QUAD_XY: 743858.67400 4480076.58600
RMSE_XY: 1.22000
IMAGE_SOURCE: BLACK AND WHITE FILM
SOURCE_IMAGE_ID: NAPP 10511-198
SOURCE_IMAGE_DATE: 1999 9 26
SOURCE_DEM_DATE: 1997 1 1
AGENCY: WESTERN MAPPING CENTER (WMC)
PRODUCER: WOOLPERT LLP
PRODUCTION_SYSTEM: INTERGRAPH ISPM, ISIR
COMPRESSION: UNDEFINED
STANDARD_VERSION: 1996 12
METADATA_DATE: 2001 10 4
DATA_FILE_SIZE: 48198492
BYTE_COUNT: 6228
