FILENAME: 40120D13
QUADRANGLE_NAME: BULL FLAT
QUADRANT: SE
WEST_LONGITUDE: -120 3 45.00000
EAST_LONGITUDE: -120 0 0.00000
NORTH_LATITUDE: 40 26 15.00000
SOUTH_LATITUDE: 40 22 30.00000
PRODUCTION_DATE: 2001 10 1
RASTER_ORDER: LEFT_RIGHT/TOP_BOTTOM
BAND_ORGANIZATION: SINGLE FILE
BAND_CONTENT: BLACK&WHITE
BAND_CONTENT: UNDEFINED
BAND_CONTENT: UNDEFINED
BITS_PER_PIXEL: 8
SAMPLES_AND_LINES: 6237 7742
HORIZONTAL_DATUM: NAD83
HORIZONTAL_COORDINATE_SYSTEM: UTM
COORDINATE_ZONE: 10
HORIZONTAL_UNITS: meters
HORIZONTAL_RESOLUTION: 1.00000
SECONDARY_HORIZONTAL_DATUM: NAD27
XY_ORIGIN: 748760.00000 4480946.00000
SECONDARY_XY_ORIGIN: 748854.68900 4480749.04300
NATION: US
STATE: CA
NW_QUAD_CORNER_XY: 749154.06800 4480461.94300
NE_QUAD_CORNER_XY: 754455.98600 4480640.28900
SE_QUAD_CORNERY_XY: 754691.70800 4473701.37800
SW_QUAD_CORNER_XY: 749384.86900 4473523.09400
SECONDARY_NW_QUAD_XY: 749160.68600 4480251.17400
SECONDARY_NE_QUAD_XY: 754462.74500 4480429.52500
SECONDARY_SE_QUAD_XY: 754698.46300 4473490.73100
SECONDARY_SW_QUAD_XY: 749391.48300 4473312.44300
RMSE_XY: 1.29000
IMAGE_SOURCE: BLACK AND WHITE FILM
SOURCE_IMAGE_ID: NAPP 10499-192
SOURCE_IMAGE_DATE: 1998 8 12
SOURCE_DEM_DATE: 1997 1 1
AGENCY: WESTERN MAPPING CENTER (WMC)
PRODUCER: WOOLPERT LLP
PRODUCTION_SYSTEM: INTERGRAPH ISPM, ISIR
COMPRESSION: UNDEFINED
STANDARD_VERSION: 1996 12
METADATA_DATE: 2001 10 4
DATA_FILE_SIZE: 48293091
BYTE_COUNT: 6237
