FILENAME: 40120D21
QUADRANGLE_NAME: LITTLE MUD FLAT
QUADRANT: NW
WEST_LONGITUDE: -120 15 0.00000
EAST_LONGITUDE: -120 11 15.00000
NORTH_LATITUDE: 40 30 0.00000
SOUTH_LATITUDE: 40 26 15.00000
PRODUCTION_DATE: 2001 10 1
RASTER_ORDER: LEFT_RIGHT/TOP_BOTTOM
BAND_ORGANIZATION: SINGLE FILE
BAND_CONTENT: BLACK&WHITE
BAND_CONTENT: UNDEFINED
BAND_CONTENT: UNDEFINED
BITS_PER_PIXEL: 8
SAMPLES_AND_LINES: 6218 7731
HORIZONTAL_DATUM: NAD83
HORIZONTAL_COORDINATE_SYSTEM: UTM
COORDINATE_ZONE: 10
HORIZONTAL_UNITS: meters
HORIZONTAL_RESOLUTION: 1.00000
SECONDARY_HORIZONTAL_DATUM: NAD27
XY_ORIGIN: 732638.00000 4487361.00000
SECONDARY_XY_ORIGIN: 732732.72300 4487163.93300
NATION: US
STATE: CA
NW_QUAD_CORNER_XY: 733032.27600 4486888.20300
NE_QUAD_CORNER_XY: 738329.12900 4487055.32100
SE_QUAD_CORNERY_XY: 738550.37300 4480116.53800
SW_QUAD_CORNER_XY: 733248.59400 4479949.47800
SECONDARY_NW_QUAD_XY: 733038.47400 4486677.30400
SECONDARY_NE_QUAD_XY: 738335.46800 4486844.42600
SECONDARY_SE_QUAD_XY: 738556.70900 4479905.75900
SECONDARY_SW_QUAD_XY: 733254.78900 4479738.69500
RMSE_XY: 1.21000
IMAGE_SOURCE: BLACK AND WHITE FILM
SOURCE_IMAGE_ID: NAPP 10511-034
SOURCE_IMAGE_DATE: 1999 9 26
SOURCE_DEM_DATE: 1997 7 1
AGENCY: WESTERN MAPPING CENTER (WMC)
PRODUCER: WOOLPERT LLP
PRODUCTION_SYSTEM: INTERGRAPH ISPM, ISIR
COMPRESSION: UNDEFINED
STANDARD_VERSION: 1996 12
METADATA_DATE: 2001 10 4
DATA_FILE_SIZE: 48077576
BYTE_COUNT: 6218
