FILENAME: 40120D32
QUADRANGLE_NAME: SHAFFER MOUNTAIN
QUADRANT: NE
WEST_LONGITUDE: -120 18 45.00000
EAST_LONGITUDE: -120 15 0.00000
NORTH_LATITUDE: 40 30 0.00000
SOUTH_LATITUDE: 40 26 15.00000
PRODUCTION_DATE: 2001 7 11
RASTER_ORDER: LEFT_RIGHT/TOP_BOTTOM
BAND_ORGANIZATION: SINGLE FILE
BAND_CONTENT: BLACK&WHITE
BAND_CONTENT: UNDEFINED
BAND_CONTENT: UNDEFINED
BITS_PER_PIXEL: 8
SAMPLES_AND_LINES: 6213 7727
HORIZONTAL_DATUM: NAD83
HORIZONTAL_COORDINATE_SYSTEM: UTM
COORDINATE_ZONE: 10
HORIZONTAL_UNITS: meters
HORIZONTAL_RESOLUTION: 1.00000
SECONDARY_HORIZONTAL_DATUM: NAD27
XY_ORIGIN: 727341.00000 4487194.00000
SECONDARY_XY_ORIGIN: 727435.80100 4486996.94700
NATION: US
STATE: CA
NW_QUAD_CORNER_XY: 727735.46600 4486724.84700
NE_QUAD_CORNER_XY: 733032.27600 4486888.20300
SE_QUAD_CORNERY_XY: 733248.59400 4479949.47800
SW_QUAD_CORNER_XY: 727946.85900 4479786.17900
SECONDARY_NW_QUAD_XY: 727741.52400 4486513.94400
SECONDARY_NE_QUAD_XY: 733038.47400 4486677.30400
SECONDARY_SE_QUAD_XY: 733254.78900 4479738.69500
SECONDARY_SW_QUAD_XY: 727952.91300 4479575.39200
RMSE_XY: 2.15000
IMAGE_SOURCE: BLACK AND WHITE FILM
SOURCE_IMAGE_ID: NAPP 10506-050
SOURCE_IMAGE_DATE: 1998 8 24
SOURCE_DEM_DATE: 1997 6 1
AGENCY: WESTERN MAPPING CENTER (WMC)
PRODUCER: WOOLPERT LLP
PRODUCTION_SYSTEM: INTERGRAPH ISPM, ISIR
COMPRESSION: UNDEFINED
STANDARD_VERSION: 1996 12
METADATA_DATE: 2001 7 11
DATA_FILE_SIZE: 48014064
BYTE_COUNT: 6213
