FILENAME: 40120D43
QUADRANGLE_NAME: LITCHFIELD
QUADRANT: SE
WEST_LONGITUDE: -120 26 15.00000
EAST_LONGITUDE: -120 22 30.00000
NORTH_LATITUDE: 40 26 15.00000
SOUTH_LATITUDE: 40 22 30.00000
PRODUCTION_DATE: 2001 7 9
RASTER_ORDER: LEFT_RIGHT/TOP_BOTTOM
BAND_ORGANIZATION: SINGLE FILE
BAND_CONTENT: BLACK&WHITE
BAND_CONTENT: UNDEFINED
BAND_CONTENT: UNDEFINED
BITS_PER_PIXEL: 8
SAMPLES_AND_LINES: 6208 7719
HORIZONTAL_DATUM: NAD83
HORIZONTAL_COORDINATE_SYSTEM: UTM
COORDINATE_ZONE: 10
HORIZONTAL_UNITS: meters
HORIZONTAL_RESOLUTION: 1.00000
SECONDARY_HORIZONTAL_DATUM: NAD27
XY_ORIGIN: 716949.00000 4479932.00000
SECONDARY_XY_ORIGIN: 717043.95800 4479735.06300
NATION: US
STATE: CA
NW_QUAD_CORNER_XY: 717343.51900 4479470.86400
NE_QUAD_CORNER_XY: 722645.16800 4479626.64200
SE_QUAD_CORNERY_XY: 722851.37000 4472688.08900
SW_QUAD_CORNER_XY: 717544.80300 4472532.36700
SECONDARY_NW_QUAD_XY: 717349.29100 4479260.06900
SECONDARY_NE_QUAD_XY: 722651.08100 4479415.85000
SECONDARY_SE_QUAD_XY: 722857.27900 4472477.41500
SECONDARY_SW_QUAD_XY: 717550.57200 4472321.68900
RMSE_XY: 1.37000
IMAGE_SOURCE: BLACK AND WHITE FILM
SOURCE_IMAGE_ID: NAPP 10500-072
SOURCE_IMAGE_DATE: 1998 8 12
SOURCE_DEM_DATE: 1997 4 1
AGENCY: WESTERN MAPPING CENTER (WMC)
PRODUCER: WOOLPERT LLP
PRODUCTION_SYSTEM: INTERGRAPH ISPM, ISIR
COMPRESSION: UNDEFINED
STANDARD_VERSION: 1996 12
METADATA_DATE: 2001 7 9
DATA_FILE_SIZE: 47925760
BYTE_COUNT: 6208
