FILENAME: 40120D51
QUADRANGLE_NAME: JOHNSTONVILLE
QUADRANT: NW
WEST_LONGITUDE: -120 37 30.00000
EAST_LONGITUDE: -120 33 45.00000
NORTH_LATITUDE: 40 30 0.00000
SOUTH_LATITUDE: 40 26 15.00000
PRODUCTION_DATE: 2001 7 10
RASTER_ORDER: LEFT_RIGHT/TOP_BOTTOM
BAND_ORGANIZATION: SINGLE FILE
BAND_CONTENT: BLACK&WHITE
BAND_CONTENT: UNDEFINED
BAND_CONTENT: UNDEFINED
BITS_PER_PIXEL: 8
SAMPLES_AND_LINES: 6189 7708
HORIZONTAL_DATUM: NAD83
HORIZONTAL_COORDINATE_SYSTEM: UTM
COORDINATE_ZONE: 10
HORIZONTAL_UNITS: meters
HORIZONTAL_RESOLUTION: 1.00000
SECONDARY_HORIZONTAL_DATUM: NAD27
XY_ORIGIN: 700857.00000 4486415.00000
SECONDARY_XY_ORIGIN: 700952.06800 4486218.07600
NATION: US
STATE: CA
NW_QUAD_CORNER_XY: 701252.04100 4485964.49200
NE_QUAD_CORNER_XY: 706548.64700 4486109.04100
SE_QUAD_CORNERY_XY: 706740.34400 4479170.58800
SW_QUAD_CORNER_XY: 701438.81600 4479026.08900
SECONDARY_NW_QUAD_XY: 701257.39400 4485753.56800
SECONDARY_NE_QUAD_XY: 706554.14100 4485898.12100
SECONDARY_SE_QUAD_XY: 706745.83400 4478959.78500
SECONDARY_SW_QUAD_XY: 701444.16600 4478815.28200
RMSE_XY: 1.31000
IMAGE_SOURCE: BLACK AND WHITE FILM
SOURCE_IMAGE_ID: NAPP 10507-171
SOURCE_IMAGE_DATE: 1998 8 25
SOURCE_DEM_DATE: 1995 3 1
AGENCY: WESTERN MAPPING CENTER (WMC)
PRODUCER: WOOLPERT LLP
PRODUCTION_SYSTEM: INTERGRAPH ISPM, ISIR
COMPRESSION: UNDEFINED
STANDARD_VERSION: 1996 12
METADATA_DATE: 2001 7 10
DATA_FILE_SIZE: 47711001
BYTE_COUNT: 6189
