BEGIN_USGS_DOQ_HEADER *
QUADRANGLE_NAME "SUSANVILLE" 3.45 or 7.5-min. name*
QUADRANT NW quadrant indicator if cell size = 3.75-minutes*
WEST_LONGITUDE -120 45 0.000 signed deg min sec SDDD MM SS.SSS*
EAST_LONGITUDE -120 41 15.000 signed deg min sec SDDD MM SS.SSS*
NORTH_LATITUDE 40 30 0.000 signed deg min sec SDDD MM SS.SSS*
SOUTH_LATITUDE 40 26 15.000 signed deg min sec SDDD MM SS.SSS*
PRODUCTION_DATE 2000 7 5 yyyy mm dd*
RASTER_ORDER left_right/top_bottom video display order*
BAND_ORGANIZATION "single file" single file or BSQ, or BIL or BIP*
BAND_CONTENT BLACK&WHITE black&white or red green blue*
BITS_PER_PIXEL 8 radiometric resolution*
SAMPLES_AND_LINES 6180 7700 number of columns and rows*
HORIZONTAL_DATUM NAD83 primary horizontal datum*
HORIZONTAL_COORDINATE_SYSTEM UTM *
COORDINATE_ZONE 10 coordinate system zone number*
HORIZONTAL_UNITS meters coordinate system units*
HORIZONTAL_RESOLUTION 1.00 pixel horiz. ground sample distance*
SECONDARY_HORIZONTAL_DATUM NAD27 secondary horizontal datum*
XY_ORIGIN 690263.000 4486129.000 coord. of upper left pixel pri. datum*
SECONDARY_XY_ORIGIN 690358.104 4485932.160 coord upper left pixel sec datum*
NATION US nation code*
STATE CA state fip code*
NW_QUAD_CORNER_XY 690658.943 4485686.671 XY coords. of pri. NW quad corner*
NE_QUAD_CORNER_XY 695955.474 4485823.702 XY coords. of pri. NE quad corner*
SE_QUAD_CORNER_XY 696137.327 4478885.349 XY coords. of pri. SE quad corner*
SW_QUAD_CORNER_XY 690835.875 4478748.366 XY coords. of pri. SW quad corner*
SECONDARY_NW_QUAD_XY 690664.014 4485475.740 XY coords. - sec. NW quad cor.*
SECONDARY_NE_QUAD_XY 695960.686 4485612.774 XY coords. - sec. NE quad cor.*
SECONDARY_SE_QUAD_XY 696142.535 4478674.538 XY coords. - sec. SE quad cor.*
SECONDARY_SW_QUAD_XY 690840.942 4478537.551 XY coords. - sec. SW quad cor.*
RMSE_XY 4.15 doq horiz. accuracy*
IMAGE_SOURCE "BLACK AND WHITE FILM" b&w, cir, natural color, other*
SOURCE_IMAGE_ID "NAPP 10507-009" source image id*
SOURCE_IMAGE_DATE 1998 8 25 source image date as yyyy mm dd*
SOURCE_IMAGE_ID "NAPP 10507-108" source image id*
SOURCE_IMAGE_DATE 1998 8 25 source image date as yyyy mm dd*
SOURCE_DEM_DATE 1995 3 1 source dem date yyyy mm dd*
AGENCY "WESTERN MAPPING CENTER (WMC)" oversight agency*
PRODUCER "WOOLPERT LLP" producer/contractor*
PRODUCTION_SYSTEM "INTERGRAPH ISPM, ISIR" production system*
STANDARD_VERSION 1996 12 version of DOQ standard*
METADATA_DATE 2000 7 5 date created or changed, yyyy mm dd*
DATA_FILE_SIZE 47592180 data set size in bytes*
BYTE_COUNT 6180 header byte count* * * * * * * * * * * * * * * * * * * * * * * * * * * * * * * * *
END_USGS_HEADER *
