BEGIN_USGS_DOQ_HEADER *
QUADRANGLE_NAME "PEGLEG MOUNTAIN" 3.45 or 7.5-min. name*
QUADRANT SW quadrant indicator if cell size = 3.75-minutes*
WEST_LONGITUDE -121 0 0.000 signed deg min sec SDDD MM SS.SSS*
EAST_LONGITUDE -120 56 15.000 signed deg min sec SDDD MM SS.SSS*
NORTH_LATITUDE 40 26 15.000 signed deg min sec SDDD MM SS.SSS*
SOUTH_LATITUDE 40 22 30.000 signed deg min sec SDDD MM SS.SSS*
PRODUCTION_DATE 2000 6 28 yyyy mm dd*
RASTER_ORDER left_right/top_bottom video display order*
BAND_ORGANIZATION "single file" single file or BSQ, or BIL or BIP*
BAND_CONTENT BLACK&WHITE black&white or red green blue*
BITS_PER_PIXEL 8 radiometric resolution*
SAMPLES_AND_LINES 6165 7685 number of columns and rows*
HORIZONTAL_DATUM NAD83 primary horizontal datum*
HORIZONTAL_COORDINATE_SYSTEM UTM *
COORDINATE_ZONE 10 coordinate system zone number*
HORIZONTAL_UNITS meters coordinate system units*
HORIZONTAL_RESOLUTION 1.00 pixel horiz. ground sample distance*
SECONDARY_HORIZONTAL_DATUM NAD27 secondary horizontal datum*
XY_ORIGIN 669234.000 4478665.000 coord. of upper left pixel pri. datum*
SECONDARY_XY_ORIGIN 669329.188 4478468.460 coord upper left pixel sec datum*
NATION US nation code*
STATE CA state fip code*
NW_QUAD_CORNER_XY 669630.420 4478238.009 XY coords. of pri. NW quad corner*
NE_QUAD_CORNER_XY 674931.733 4478359.963 XY coords. of pri. NE quad corner*
SE_QUAD_CORNER_XY 675093.694 4471421.859 XY coords. of pri. SE quad corner*
SW_QUAD_CORNER_XY 669787.469 4471299.948 XY coords. of pri. SW quad corner*
SECONDARY_NW_QUAD_XY 669634.925 4478027.181 XY coords. - sec. NW quad cor.*
SECONDARY_NE_QUAD_XY 674936.378 4478149.138 XY coords. - sec. NE quad cor.*
SECONDARY_SE_QUAD_XY 675098.337 4471211.152 XY coords. - sec. SE quad cor.*
SECONDARY_SW_QUAD_XY 669791.970 4471089.238 XY coords. - sec. SW quad cor.*
RMSE_XY 4.49 doq horiz. accuracy*
IMAGE_SOURCE "BLACK AND WHITE FILM" b&w, cir, natural color, other*
SOURCE_IMAGE_ID "NAPP 10498-052" source image id*
SOURCE_IMAGE_DATE 1998 8 3 source image date as yyyy mm dd*
SOURCE_DEM_DATE 1997 6 1 source dem date yyyy mm dd*
AGENCY "WESTERN MAPPING CENTER (WMC)" oversight agency*
PRODUCER "WOOLPERT LLP" producer/contractor*
PRODUCTION_SYSTEM "INTERGRAPH ISPM, ISIR" production system*
STANDARD_VERSION 1996 12 version of DOQ standard*
METADATA_DATE 2000 6 28 date created or changed, yyyy mm dd*
DATA_FILE_SIZE 47384190 data set size in bytes*
BYTE_COUNT 6165 header byte count* * * * * * * * * * * * * * * * * * * * * * * * * * * * * * * * * * *
END_USGS_HEADER *
