FILENAME: 40120E11
QUADRANGLE_NAME: CHERRY MOUNTAIN
QUADRANT: NW
WEST_LONGITUDE: -120 7 30.00000
EAST_LONGITUDE: -120 3 45.00000
NORTH_LATITUDE: 40 37 30.00000
SOUTH_LATITUDE: 40 33 45.00000
PRODUCTION_DATE: 2001 10 1
RASTER_ORDER: LEFT_RIGHT/TOP_BOTTOM
BAND_ORGANIZATION: SINGLE FILE
BAND_CONTENT: BLACK&WHITE
BAND_CONTENT: UNDEFINED
BAND_CONTENT: UNDEFINED
BITS_PER_PIXEL: 8
SAMPLES_AND_LINES: 6218 7738
HORIZONTAL_DATUM: NAD83
HORIZONTAL_COORDINATE_SYSTEM: UTM
COORDINATE_ZONE: 10
HORIZONTAL_UNITS: meters
HORIZONTAL_RESOLUTION: 1.00000
SECONDARY_HORIZONTAL_DATUM: NAD27
XY_ORIGIN: 742779.00000 4501584.00000
SECONDARY_XY_ORIGIN: 742873.59300 4501386.86400
NATION: US
STATE: CA
NW_QUAD_CORNER_XY: 743172.81300 4501104.05700
NE_QUAD_CORNER_XY: 748459.88200 4501278.82100
SE_QUAD_CORNERY_XY: 748691.57500 4494339.80600
SW_QUAD_CORNER_XY: 743399.56500 4494165.10100
SECONDARY_NW_QUAD_XY: 743179.30100 4500892.93600
SECONDARY_NE_QUAD_XY: 748466.51200 4501067.70500
SECONDARY_SE_QUAD_XY: 748698.20000 4494128.80500
SECONDARY_SW_QUAD_XY: 743406.04900 4493954.09500
RMSE_XY: 1.32000
IMAGE_SOURCE: BLACK AND WHITE FILM
SOURCE_IMAGE_ID: NAPP 10511-202
SOURCE_IMAGE_DATE: 1999 9 26
SOURCE_DEM_DATE: 1998 0 0
AGENCY: WESTERN MAPPING CENTER (WMC)
PRODUCER: WOOLPERT LLP
PRODUCTION_SYSTEM: INTERGRAPH ISPM, ISIR
COMPRESSION: UNDEFINED
STANDARD_VERSION: 1996 12
METADATA_DATE: 2001 10 4
DATA_FILE_SIZE: 48121102
BYTE_COUNT: 6218
