FILENAME: 40120E13
QUADRANGLE_NAME: CHERRY MOUNTAIN
QUADRANT: SE
WEST_LONGITUDE: -120 3 45.00000
EAST_LONGITUDE: -120 0 0.00000
NORTH_LATITUDE: 40 33 45.00000
SOUTH_LATITUDE: 40 30 0.00000
PRODUCTION_DATE: 2001 10 1
RASTER_ORDER: LEFT_RIGHT/TOP_BOTTOM
BAND_ORGANIZATION: SINGLE FILE
BAND_CONTENT: BLACK&WHITE
BAND_CONTENT: UNDEFINED
BAND_CONTENT: UNDEFINED
BITS_PER_PIXEL: 8
SAMPLES_AND_LINES: 6227 7743
HORIZONTAL_DATUM: NAD83
HORIZONTAL_COORDINATE_SYSTEM: UTM
COORDINATE_ZONE: 10
HORIZONTAL_UNITS: meters
HORIZONTAL_RESOLUTION: 1.00000
SECONDARY_HORIZONTAL_DATUM: NAD27
XY_ORIGIN: 748298.00000 4494824.00000
SECONDARY_XY_ORIGIN: 748392.60400 4494626.94300
NATION: US
STATE: CA
NW_QUAD_CORNER_XY: 748691.57500 4494339.80600
NE_QUAD_CORNER_XY: 753983.63000 4494518.27600
SE_QUAD_CORNERY_XY: 754219.96000 4487579.25500
SW_QUAD_CORNER_XY: 748922.97000 4487400.84700
SECONDARY_NW_QUAD_XY: 748698.20000 4494128.80500
SECONDARY_NE_QUAD_XY: 753990.39700 4494307.28000
SECONDARY_SE_QUAD_XY: 754226.72300 4487368.37500
SECONDARY_SW_QUAD_XY: 748929.59200 4487189.96100
RMSE_XY: 1.18000
IMAGE_SOURCE: BLACK AND WHITE FILM
SOURCE_IMAGE_ID: NAPP 10499-196
SOURCE_IMAGE_DATE: 1998 8 12
SOURCE_DEM_DATE: 1998 0 0
AGENCY: WESTERN MAPPING CENTER (WMC)
PRODUCER: WOOLPERT LLP
PRODUCTION_SYSTEM: INTERGRAPH ISPM, ISIR
COMPRESSION: UNDEFINED
STANDARD_VERSION: 1996 12
METADATA_DATE: 2001 10 4
DATA_FILE_SIZE: 48221888
BYTE_COUNT: 6227
