FILENAME: 40120E14
QUADRANGLE_NAME: CHERRY MOUNTAIN
QUADRANT: SW
WEST_LONGITUDE: -120 7 30.00000
EAST_LONGITUDE: -120 3 45.00000
NORTH_LATITUDE: 40 33 45.00000
SOUTH_LATITUDE: 40 30 0.00000
PRODUCTION_DATE: 2001 10 1
RASTER_ORDER: LEFT_RIGHT/TOP_BOTTOM
BAND_ORGANIZATION: SINGLE FILE
BAND_CONTENT: BLACK&WHITE
BAND_CONTENT: UNDEFINED
BAND_CONTENT: UNDEFINED
BITS_PER_PIXEL: 8
SAMPLES_AND_LINES: 6222 7738
HORIZONTAL_DATUM: NAD83
HORIZONTAL_COORDINATE_SYSTEM: UTM
COORDINATE_ZONE: 10
HORIZONTAL_UNITS: meters
HORIZONTAL_RESOLUTION: 1.00000
SECONDARY_HORIZONTAL_DATUM: NAD27
XY_ORIGIN: 743006.00000 4494645.00000
SECONDARY_XY_ORIGIN: 743100.63500 4494447.91700
NATION: US
STATE: CA
NW_QUAD_CORNER_XY: 743399.56500 4494165.10100
NE_QUAD_CORNER_XY: 748691.57500 4494339.80600
SE_QUAD_CORNERY_XY: 748922.97000 4487400.84700
SW_QUAD_CORNER_XY: 743626.02600 4487226.20200
SECONDARY_NW_QUAD_XY: 743406.04900 4493954.09500
SECONDARY_NE_QUAD_XY: 748698.20000 4494128.80500
SECONDARY_SE_QUAD_XY: 748929.59200 4487189.96100
SECONDARY_SW_QUAD_XY: 743632.50700 4487015.31200
RMSE_XY: 1.31000
IMAGE_SOURCE: BLACK AND WHITE FILM
SOURCE_IMAGE_ID: NAPP 10511-200
SOURCE_IMAGE_DATE: 1999 9 26
SOURCE_DEM_DATE: 1998 0 0
AGENCY: WESTERN MAPPING CENTER (WMC)
PRODUCER: WOOLPERT LLP
PRODUCTION_SYSTEM: INTERGRAPH ISPM, ISIR
COMPRESSION: UNDEFINED
STANDARD_VERSION: 1996 12
METADATA_DATE: 2001 10 4
DATA_FILE_SIZE: 48152058
BYTE_COUNT: 6222
