FILENAME: 40120E23
QUADRANGLE_NAME: FIVE SPRINGS
QUADRANT: SE
WEST_LONGITUDE: -120 11 15.00000
EAST_LONGITUDE: -120 7 30.00000
NORTH_LATITUDE: 40 33 45.00000
SOUTH_LATITUDE: 40 30 0.00000
PRODUCTION_DATE: 2001 10 1
RASTER_ORDER: LEFT_RIGHT/TOP_BOTTOM
BAND_ORGANIZATION: SINGLE FILE
BAND_CONTENT: BLACK&WHITE
BAND_CONTENT: UNDEFINED
BAND_CONTENT: UNDEFINED
BITS_PER_PIXEL: 8
SAMPLES_AND_LINES: 6218 7735
HORIZONTAL_DATUM: NAD83
HORIZONTAL_COORDINATE_SYSTEM: UTM
COORDINATE_ZONE: 10
HORIZONTAL_UNITS: meters
HORIZONTAL_RESOLUTION: 1.00000
SECONDARY_HORIZONTAL_DATUM: NAD27
XY_ORIGIN: 737714.00000 4494471.00000
SECONDARY_XY_ORIGIN: 737808.66600 4494273.89000
NATION: US
STATE: CA
NW_QUAD_CORNER_XY: 738107.60000 4493994.16100
NE_QUAD_CORNER_XY: 743399.56500 4494165.10100
SE_QUAD_CORNERY_XY: 743626.02600 4487226.20200
SW_QUAD_CORNER_XY: 738329.12900 4487055.32100
SECONDARY_NW_QUAD_XY: 738113.94400 4493783.15100
SECONDARY_NE_QUAD_XY: 743406.04900 4493954.09500
SECONDARY_SE_QUAD_XY: 743632.50700 4487015.31200
SECONDARY_SW_QUAD_XY: 738335.46800 4486844.42600
RMSE_XY: 1.27000
IMAGE_SOURCE: BLACK AND WHITE FILM
SOURCE_IMAGE_ID: NAPP 10511-133
SOURCE_IMAGE_DATE: 1999 9 26
SOURCE_DEM_DATE: 2001 1 1
AGENCY: WESTERN MAPPING CENTER (WMC)
PRODUCER: WOOLPERT LLP
PRODUCTION_SYSTEM: INTERGRAPH ISPM, ISIR
COMPRESSION: UNDEFINED
STANDARD_VERSION: 1996 12
METADATA_DATE: 2001 10 4
DATA_FILE_SIZE: 48102448
BYTE_COUNT: 6218
