FILENAME: 40120E34
QUADRANGLE_NAME: KARLO
QUADRANT: SW
WEST_LONGITUDE: -120 22 30.00000
EAST_LONGITUDE: -120 18 45.00000
NORTH_LATITUDE: 40 33 45.00000
SOUTH_LATITUDE: 40 30 0.00000
PRODUCTION_DATE: 2001 7 11
RASTER_ORDER: LEFT_RIGHT/TOP_BOTTOM
BAND_ORGANIZATION: SINGLE FILE
BAND_CONTENT: BLACK&WHITE
BAND_CONTENT: UNDEFINED
BAND_CONTENT: UNDEFINED
BITS_PER_PIXEL: 8
SAMPLES_AND_LINES: 6203 7723
HORIZONTAL_DATUM: NAD83
HORIZONTAL_COORDINATE_SYSTEM: UTM
COORDINATE_ZONE: 10
HORIZONTAL_UNITS: meters
HORIZONTAL_RESOLUTION: 1.00000
SECONDARY_HORIZONTAL_DATUM: NAD27
XY_ORIGIN: 721838.00000 4493969.00000
SECONDARY_XY_ORIGIN: 721932.84800 4493771.86900
NATION: US
STATE: CA
NW_QUAD_CORNER_XY: 722231.96600 4493503.92600
NE_QUAD_CORNER_XY: 727523.80200 4493663.57400
SE_QUAD_CORNERY_XY: 727735.46600 4486724.84700
SW_QUAD_CORNER_XY: 722438.70000 4486565.25400
SECONDARY_NW_QUAD_XY: 722237.88700 4493292.90200
SECONDARY_NE_QUAD_XY: 727529.86300 4493452.55500
SECONDARY_SE_QUAD_XY: 727741.52400 4486513.94400
SECONDARY_SW_QUAD_XY: 722444.61700 4486354.34600
RMSE_XY: 2.34000
IMAGE_SOURCE: BLACK AND WHITE FILM
SOURCE_IMAGE_ID: NAPP 10500-048
SOURCE_IMAGE_DATE: 1998 8 12
SOURCE_DEM_DATE: 2001 1 1
AGENCY: WESTERN MAPPING CENTER (WMC)
PRODUCER: WOOLPERT LLP
PRODUCTION_SYSTEM: INTERGRAPH ISPM, ISIR
COMPRESSION: UNDEFINED
STANDARD_VERSION: 1996 12
METADATA_DATE: 2001 7 11
DATA_FILE_SIZE: 47911972
BYTE_COUNT: 6203
