FILENAME: 40120E41
QUADRANGLE_NAME: PETES VALLEY
QUADRANT: NW
WEST_LONGITUDE: -120 30 0.00000
EAST_LONGITUDE: -120 26 15.00000
NORTH_LATITUDE: 40 37 30.00000
SOUTH_LATITUDE: 40 33 45.00000
PRODUCTION_DATE: 2001 7 9
RASTER_ORDER: LEFT_RIGHT/TOP_BOTTOM
BAND_ORGANIZATION: SINGLE FILE
BAND_CONTENT: BLACK&WHITE
BAND_CONTENT: UNDEFINED
BAND_CONTENT: UNDEFINED
BITS_PER_PIXEL: 8
SAMPLES_AND_LINES: 6190 7715
HORIZONTAL_DATUM: NAD83
HORIZONTAL_COORDINATE_SYSTEM: UTM
COORDINATE_ZONE: 10
HORIZONTAL_UNITS: meters
HORIZONTAL_RESOLUTION: 1.00000
SECONDARY_HORIZONTAL_DATUM: NAD27
XY_ORIGIN: 711056.00000 4500592.00000
SECONDARY_XY_ORIGIN: 711150.95200 4500394.75800
NATION: US
STATE: CA
NW_QUAD_CORNER_XY: 711451.29200 4500134.54400
NE_QUAD_CORNER_XY: 716738.11000 4500286.71800
SE_QUAD_CORNERY_XY: 716940.17200 4493348.04000
SW_QUAD_CORNER_XY: 711648.41800 4493195.91700
SECONDARY_NW_QUAD_XY: 711456.93300 4499923.39700
SECONDARY_NE_QUAD_XY: 716743.89300 4500075.57600
SECONDARY_SE_QUAD_XY: 716945.95100 4493137.01200
SECONDARY_SW_QUAD_XY: 711654.05600 4492984.88500
RMSE_XY: 1.19000
IMAGE_SOURCE: BLACK AND WHITE FILM
SOURCE_IMAGE_ID: NAPP 10507-273
SOURCE_IMAGE_DATE: 1998 8 25
SOURCE_DEM_DATE: 1994 0 0
AGENCY: WESTERN MAPPING CENTER (WMC)
PRODUCER: WOOLPERT LLP
PRODUCTION_SYSTEM: INTERGRAPH ISPM, ISIR
COMPRESSION: UNDEFINED
STANDARD_VERSION: 1996 12
METADATA_DATE: 2001 7 9
DATA_FILE_SIZE: 47762040
BYTE_COUNT: 6190
