FILENAME: 40120E51
QUADRANGLE_NAME: TUNNISON MOUNTAIN
QUADRANT: NW
WEST_LONGITUDE: -120 37 30.00000
EAST_LONGITUDE: -120 33 45.00000
NORTH_LATITUDE: 40 37 30.00000
SOUTH_LATITUDE: 40 33 45.00000
PRODUCTION_DATE: 2001 7 10
RASTER_ORDER: LEFT_RIGHT/TOP_BOTTOM
BAND_ORGANIZATION: SINGLE FILE
BAND_CONTENT: BLACK&WHITE
BAND_CONTENT: UNDEFINED
BAND_CONTENT: UNDEFINED
BITS_PER_PIXEL: 8
SAMPLES_AND_LINES: 6179 7709
HORIZONTAL_DATUM: NAD83
HORIZONTAL_COORDINATE_SYSTEM: UTM
COORDINATE_ZONE: 10
HORIZONTAL_UNITS: meters
HORIZONTAL_RESOLUTION: 1.00000
SECONDARY_HORIZONTAL_DATUM: NAD27
XY_ORIGIN: 700483.00000 4500292.00000
SECONDARY_XY_ORIGIN: 700578.00100 4500094.83300
NATION: US
STATE: CA
NW_QUAD_CORNER_XY: 700877.77100 4499841.48300
NE_QUAD_CORNER_XY: 706164.51300 4499986.13200
SE_QUAD_CORNERY_XY: 706356.70300 4493047.55600
SW_QUAD_CORNER_XY: 701065.02600 4492902.95600
SECONDARY_NW_QUAD_XY: 700883.13000 4499630.32900
SECONDARY_NE_QUAD_XY: 706170.01300 4499774.98100
SECONDARY_SE_QUAD_XY: 706362.20000 4492836.52000
SECONDARY_SW_QUAD_XY: 701070.38200 4492691.91700
RMSE_XY: 1.29000
IMAGE_SOURCE: BLACK AND WHITE FILM
SOURCE_IMAGE_ID: NAPP 10507-175
SOURCE_IMAGE_DATE: 1998 8 25
SOURCE_DEM_DATE: 1997 7 1
AGENCY: WESTERN MAPPING CENTER (WMC)
PRODUCER: WOOLPERT LLP
PRODUCTION_SYSTEM: INTERGRAPH ISPM, ISIR
COMPRESSION: UNDEFINED
STANDARD_VERSION: 1996 12
METADATA_DATE: 2001 7 10
DATA_FILE_SIZE: 47640090
BYTE_COUNT: 6179
