FILENAME: 40120E54
QUADRANGLE_NAME: TUNNISON MOUNTAIN
QUADRANT: SW
WEST_LONGITUDE: -120 37 30.00000
EAST_LONGITUDE: -120 33 45.00000
NORTH_LATITUDE: 40 33 45.00000
SOUTH_LATITUDE: 40 30 0.00000
PRODUCTION_DATE: 2001 7 10
RASTER_ORDER: LEFT_RIGHT/TOP_BOTTOM
BAND_ORGANIZATION: SINGLE FILE
BAND_CONTENT: BLACK&WHITE
BAND_CONTENT: UNDEFINED
BAND_CONTENT: UNDEFINED
BITS_PER_PIXEL: 8
SAMPLES_AND_LINES: 6184 7708
HORIZONTAL_DATUM: NAD83
HORIZONTAL_COORDINATE_SYSTEM: UTM
COORDINATE_ZONE: 10
HORIZONTAL_UNITS: meters
HORIZONTAL_RESOLUTION: 1.00000
SECONDARY_HORIZONTAL_DATUM: NAD27
XY_ORIGIN: 700670.00000 4493353.00000
SECONDARY_XY_ORIGIN: 700765.03500 4493155.95400
NATION: US
STATE: CA
NW_QUAD_CORNER_XY: 701065.02600 4492902.95600
NE_QUAD_CORNER_XY: 706356.70300 4493047.55600
SE_QUAD_CORNERY_XY: 706548.64700 4486109.04100
SW_QUAD_CORNER_XY: 701252.04100 4485964.49200
SECONDARY_NW_QUAD_XY: 701070.38200 4492691.91700
SECONDARY_NE_QUAD_XY: 706362.20000 4492836.52000
SECONDARY_SE_QUAD_XY: 706554.14100 4485898.12100
SECONDARY_SW_QUAD_XY: 701257.39400 4485753.56800
RMSE_XY: 1.21000
IMAGE_SOURCE: BLACK AND WHITE FILM
SOURCE_IMAGE_ID: NAPP 10507-173
SOURCE_IMAGE_DATE: 1998 8 25
SOURCE_DEM_DATE: 1997 7 1
AGENCY: WESTERN MAPPING CENTER (WMC)
PRODUCER: WOOLPERT LLP
PRODUCTION_SYSTEM: INTERGRAPH ISPM, ISIR
COMPRESSION: UNDEFINED
STANDARD_VERSION: 1996 12
METADATA_DATE: 2001 7 10
DATA_FILE_SIZE: 47672456
BYTE_COUNT: 6184
