BEGIN_USGS_DOQ_HEADER *
QUADRANGLE_NAME "GALLATIN PEAK" 3.45 or 7.5-min. name*
QUADRANT SW quadrant indicator if cell size = 3.75-minutes*
WEST_LONGITUDE -120 45 0.000 signed deg min sec SDDD MM SS.SSS*
EAST_LONGITUDE -120 41 15.000 signed deg min sec SDDD MM SS.SSS*
NORTH_LATITUDE 40 33 45.000 signed deg min sec SDDD MM SS.SSS*
SOUTH_LATITUDE 40 30 0.000 signed deg min sec SDDD MM SS.SSS*
PRODUCTION_DATE 2000 7 5 yyyy mm dd*
RASTER_ORDER left_right/top_bottom video display order*
BAND_ORGANIZATION "single file" single file or BSQ, or BIL or BIP*
BAND_CONTENT BLACK&WHITE black&white or red green blue*
BITS_PER_PIXEL 8 radiometric resolution*
SAMPLES_AND_LINES 6175 7701 number of columns and rows*
HORIZONTAL_DATUM NAD83 primary horizontal datum*
HORIZONTAL_COORDINATE_SYSTEM UTM *
COORDINATE_ZONE 10 coordinate system zone number*
HORIZONTAL_UNITS meters coordinate system units*
HORIZONTAL_RESOLUTION 1.00 pixel horiz. ground sample distance*
SECONDARY_HORIZONTAL_DATUM NAD27 secondary horizontal datum*
XY_ORIGIN 690086.000 4493068.000 coord. of upper left pixel pri. datum*
SECONDARY_XY_ORIGIN 690181.076 4492871.033 coord upper left pixel sec datum*
NATION US nation code*
STATE CA state fip code*
NW_QUAD_CORNER_XY 690481.784 4492625.040 XY coords. of pri. NW quad corner*
NE_QUAD_CORNER_XY 695773.387 4492762.118 XY coords. of pri. NE quad corner*
SE_QUAD_CORNER_XY 695955.474 4485823.702 XY coords. of pri. SE quad corner*
SW_QUAD_CORNER_XY 690658.943 4485686.671 XY coords. of pri. SW quad corner*
SECONDARY_NW_QUAD_XY 690486.858 4492413.993 XY coords. - sec. NW quad cor.*
SECONDARY_NE_QUAD_XY 695778.602 4492551.074 XY coords. - sec. NE quad cor.*
SECONDARY_SE_QUAD_XY 695960.686 4485612.774 XY coords. - sec. SE quad cor.*
SECONDARY_SW_QUAD_XY 690664.014 4485475.740 XY coords. - sec. SW quad cor.*
RMSE_XY 4.05 doq horiz. accuracy*
IMAGE_SOURCE "BLACK AND WHITE FILM" b&w, cir, natural color, other*
SOURCE_IMAGE_ID "NAPP 10507-011" source image id*
SOURCE_IMAGE_DATE 1998 8 25 source image date as yyyy mm dd*
SOURCE_IMAGE_ID "NAPP 10507-013" source image id*
SOURCE_IMAGE_DATE 1998 8 25 source image date as yyyy mm dd*
SOURCE_DEM_DATE 1997 7 1 source dem date yyyy mm dd*
AGENCY "WESTERN MAPPING CENTER (WMC)" oversight agency*
PRODUCER "WOOLPERT LLP" producer/contractor*
PRODUCTION_SYSTEM "INTERGRAPH ISPM, ISIR" production system*
STANDARD_VERSION 1996 12 version of DOQ standard*
METADATA_DATE 2000 7 5 date created or changed, yyyy mm dd*
DATA_FILE_SIZE 47559850 data set size in bytes*
BYTE_COUNT 6175 header byte count* * * * * * * * * * * * * * * * * * * * * * * * * * * * * * * * *
END_USGS_HEADER *
