BEGIN_USGS_DOQ_HEADER *
QUADRANGLE_NAME "PIKES POINT" 3.45 or 7.5-min. name*
QUADRANT NE quadrant indicator if cell size = 3.75-minutes*
WEST_LONGITUDE -120 48 45.000 signed deg min sec SDDD MM SS.SSS*
EAST_LONGITUDE -120 45 0.000 signed deg min sec SDDD MM SS.SSS*
NORTH_LATITUDE 40 37 30.000 signed deg min sec SDDD MM SS.SSS*
SOUTH_LATITUDE 40 33 45.000 signed deg min sec SDDD MM SS.SSS*
PRODUCTION_DATE 2000 6 28 yyyy mm dd*
RASTER_ORDER left_right/top_bottom video display order*
BAND_ORGANIZATION "single file" single file or BSQ, or BIL or BIP*
BAND_CONTENT BLACK&WHITE black&white or red green blue*
BITS_PER_PIXEL 8 radiometric resolution*
SAMPLES_AND_LINES 6165 7697 number of columns and rows*
HORIZONTAL_DATUM NAD83 primary horizontal datum*
HORIZONTAL_COORDINATE_SYSTEM UTM *
COORDINATE_ZONE 10 coordinate system zone number*
HORIZONTAL_UNITS meters coordinate system units*
HORIZONTAL_RESOLUTION 1.00 pixel horiz. ground sample distance*
SECONDARY_HORIZONTAL_DATUM NAD27 secondary horizontal datum*
XY_ORIGIN 684622.000 4499869.000 coord. of upper left pixel pri. datum*
SECONDARY_XY_ORIGIN 684717.043 4499671.941 coord upper left pixel sec datum*
NATION US nation code*
STATE CA state fip code*
NW_QUAD_CORNER_XY 685017.763 4499430.110 XY coords. of pri. NW quad corner*
NE_QUAD_CORNER_XY 690304.397 4499563.472 XY coords. of pri. NE quad corner*
SE_QUAD_CORNER_XY 690481.784 4492625.040 XY coords. of pri. SE quad corner*
SW_QUAD_CORNER_XY 685190.216 4492491.722 XY coords. of pri. SW quad corner*
SECONDARY_NW_QUAD_XY 685022.699 4499218.944 XY coords. - sec. NW quad cor.*
SECONDARY_NE_QUAD_XY 690309.474 4499352.311 XY coords. - sec. NE quad cor.*
SECONDARY_SE_QUAD_XY 690486.858 4492413.993 XY coords. - sec. SE quad cor.*
SECONDARY_SW_QUAD_XY 685195.149 4492280.672 XY coords. - sec. SW quad cor.*
RMSE_XY 3.71 doq horiz. accuracy*
IMAGE_SOURCE "BLACK AND WHITE FILM" b&w, cir, natural color, other*
SOURCE_IMAGE_ID "NAPP 10497-037" source image id*
SOURCE_IMAGE_DATE 1998 8 3 source image date as yyyy mm dd*
SOURCE_DEM_DATE 1997 7 1 source dem date yyyy mm dd*
AGENCY "WESTERN MAPPING CENTER (WMC)" oversight agency*
PRODUCER "WOOLPERT LLP" producer/contractor*
PRODUCTION_SYSTEM "INTERGRAPH ISPM, ISIR" production system*
STANDARD_VERSION 1996 12 version of DOQ standard*
METADATA_DATE 2000 6 28 date created or changed, yyyy mm dd*
DATA_FILE_SIZE 47458170 data set size in bytes*
BYTE_COUNT 6165 header byte count* * * * * * * * * * * * * * * * * * * * * * * * * * * * * * * * * * *
END_USGS_HEADER *
