FILENAME: 40120F11
QUADRANGLE_NAME: AL SHINN CANYON
QUADRANT: NW
WEST_LONGITUDE: -120 7 30.00000
EAST_LONGITUDE: -120 3 45.00000
NORTH_LATITUDE: 40 45 0.00000
SOUTH_LATITUDE: 40 41 15.00000
PRODUCTION_DATE: 2001 10 1
RASTER_ORDER: LEFT_RIGHT/TOP_BOTTOM
BAND_ORGANIZATION: SINGLE FILE
BAND_CONTENT: BLACK&WHITE
BAND_CONTENT: UNDEFINED
BAND_CONTENT: UNDEFINED
BITS_PER_PIXEL: 8
SAMPLES_AND_LINES: 6208 7739
HORIZONTAL_DATUM: NAD83
HORIZONTAL_COORDINATE_SYSTEM: UTM
COORDINATE_ZONE: 10
HORIZONTAL_UNITS: meters
HORIZONTAL_RESOLUTION: 1.00000
SECONDARY_HORIZONTAL_DATUM: NAD27
XY_ORIGIN: 742325.00000 4515463.00000
SECONDARY_XY_ORIGIN: 742419.50700 4515265.75900
NATION: US
STATE: CA
NW_QUAD_CORNER_XY: 742718.43700 4514982.13800
NE_QUAD_CORNER_XY: 747995.60800 4515157.01800
SE_QUAD_CORNERY_XY: 748227.89400 4508217.89200
SW_QUAD_CORNER_XY: 742945.77000 4508043.06900
SECONDARY_NW_QUAD_XY: 742724.93300 4514770.79000
SECONDARY_NE_QUAD_XY: 748002.24500 4514945.67400
SECONDARY_SE_QUAD_XY: 748234.52700 4508006.66100
SECONDARY_SW_QUAD_XY: 742952.26200 4507831.83400
RMSE_XY: 1.22000
IMAGE_SOURCE: BLACK AND WHITE FILM
SOURCE_IMAGE_ID: NAPP 10511-206
SOURCE_IMAGE_DATE: 1999 9 26
SOURCE_DEM_DATE: 1997 6 1
AGENCY: WESTERN MAPPING CENTER (WMC)
PRODUCER: WOOLPERT LLP
PRODUCTION_SYSTEM: INTERGRAPH ISPM, ISIR
COMPRESSION: UNDEFINED
STANDARD_VERSION: 1996 12
METADATA_DATE: 2001 10 4
DATA_FILE_SIZE: 48049920
BYTE_COUNT: 6208
