FILENAME: 40120F24
QUADRANGLE_NAME: SHINN MOUNTAIN
QUADRANT: SW
WEST_LONGITUDE: -120 15 0.00000
EAST_LONGITUDE: -120 11 15.00000
NORTH_LATITUDE: 40 41 15.00000
SOUTH_LATITUDE: 40 37 30.00000
PRODUCTION_DATE: 2001 10 1
RASTER_ORDER: LEFT_RIGHT/TOP_BOTTOM
BAND_ORGANIZATION: SINGLE FILE
BAND_CONTENT: BLACK&WHITE
BAND_CONTENT: UNDEFINED
BAND_CONTENT: UNDEFINED
BITS_PER_PIXEL: 8
SAMPLES_AND_LINES: 6203 7732
HORIZONTAL_DATUM: NAD83
HORIZONTAL_COORDINATE_SYSTEM: UTM
COORDINATE_ZONE: 10
HORIZONTAL_UNITS: meters
HORIZONTAL_RESOLUTION: 1.00000
SECONDARY_HORIZONTAL_DATUM: NAD27
XY_ORIGIN: 731988.00000 4508178.00000
SECONDARY_XY_ORIGIN: 732082.65200 4507980.73300
NATION: US
STATE: CA
NW_QUAD_CORNER_XY: 732381.65300 4507704.72600
NE_QUAD_CORNER_XY: 737663.69000 4507872.01400
SE_QUAD_CORNERY_XY: 737885.78700 4500933.05900
SW_QUAD_CORNER_XY: 732598.80500 4500765.82700
SECONDARY_NW_QUAD_XY: 732387.86300 4507493.48200
SECONDARY_NE_QUAD_XY: 737670.04100 4507660.77500
SECONDARY_SE_QUAD_XY: 737892.13400 4500721.93400
SECONDARY_SW_QUAD_XY: 732605.01100 4500554.69700
RMSE_XY: 1.18000
IMAGE_SOURCE: BLACK AND WHITE FILM
SOURCE_IMAGE_ID: NAPP 10511-040
SOURCE_IMAGE_DATE: 1999 9 26
SOURCE_DEM_DATE: 1997 6 1
AGENCY: WESTERN MAPPING CENTER (WMC)
PRODUCER: WOOLPERT LLP
PRODUCTION_SYSTEM: INTERGRAPH ISPM, ISIR
COMPRESSION: UNDEFINED
STANDARD_VERSION: 1996 12
METADATA_DATE: 2001 10 4
DATA_FILE_SIZE: 47967799
BYTE_COUNT: 6203
