FILENAME: 40120F31
QUADRANGLE_NAME: SNOWSTORM MOUNTAIN
QUADRANT: NW
WEST_LONGITUDE: -120 22 30.00000
EAST_LONGITUDE: -120 18 45.00000
NORTH_LATITUDE: 40 45 0.00000
SOUTH_LATITUDE: 40 41 15.00000
PRODUCTION_DATE: 2001 7 11
RASTER_ORDER: LEFT_RIGHT/TOP_BOTTOM
BAND_ORGANIZATION: SINGLE FILE
BAND_CONTENT: BLACK&WHITE
BAND_CONTENT: UNDEFINED
BAND_CONTENT: UNDEFINED
BITS_PER_PIXEL: 8
SAMPLES_AND_LINES: 6189 7724
HORIZONTAL_DATUM: NAD83
HORIZONTAL_COORDINATE_SYSTEM: UTM
COORDINATE_ZONE: 10
HORIZONTAL_UNITS: meters
HORIZONTAL_RESOLUTION: 1.00000
SECONDARY_HORIZONTAL_DATUM: NAD27
XY_ORIGIN: 721216.00000 4514786.00000
SECONDARY_XY_ORIGIN: 721310.74800 4514588.59800
NATION: US
STATE: CA
NW_QUAD_CORNER_XY: 721610.17500 4514320.29800
NE_QUAD_CORNER_XY: 726887.17900 4514480.10700
SE_QUAD_CORNERY_XY: 727099.65800 4507541.20400
SW_QUAD_CORNER_XY: 721817.70400 4507381.44800
SECONDARY_NW_QUAD_XY: 721616.10500 4514108.93200
SECONDARY_NE_QUAD_XY: 726893.25100 4514268.74500
SECONDARY_SE_QUAD_XY: 727105.72600 4507329.95600
SECONDARY_SW_QUAD_XY: 721823.63100 4507170.19500
RMSE_XY: 2.31000
IMAGE_SOURCE: BLACK AND WHITE FILM
SOURCE_IMAGE_ID: NAPP 10500-042
SOURCE_IMAGE_DATE: 1998 8 12
SOURCE_DEM_DATE: 2001 1 1
AGENCY: WESTERN MAPPING CENTER (WMC)
PRODUCER: WOOLPERT LLP
PRODUCTION_SYSTEM: INTERGRAPH ISPM, ISIR
COMPRESSION: UNDEFINED
STANDARD_VERSION: 1996 12
METADATA_DATE: 2001 7 11
DATA_FILE_SIZE: 47810025
BYTE_COUNT: 6189
