FILENAME: 40120F33
QUADRANGLE_NAME: SNOWSTORM MOUNTAIN
QUADRANT: SE
WEST_LONGITUDE: -120 18 45.00000
EAST_LONGITUDE: -120 15 0.00000
NORTH_LATITUDE: 40 41 15.00000
SOUTH_LATITUDE: 40 37 30.00000
PRODUCTION_DATE: 2001 7 11
RASTER_ORDER: LEFT_RIGHT/TOP_BOTTOM
BAND_ORGANIZATION: SINGLE FILE
BAND_CONTENT: BLACK&WHITE
BAND_CONTENT: UNDEFINED
BAND_CONTENT: UNDEFINED
BITS_PER_PIXEL: 8
SAMPLES_AND_LINES: 6198 7727
HORIZONTAL_DATUM: NAD83
HORIZONTAL_COORDINATE_SYSTEM: UTM
COORDINATE_ZONE: 10
HORIZONTAL_UNITS: meters
HORIZONTAL_RESOLUTION: 1.00000
SECONDARY_HORIZONTAL_DATUM: NAD27
XY_ORIGIN: 726706.00000 4508010.00000
SECONDARY_XY_ORIGIN: 726800.71700 4507812.71000
NATION: US
STATE: CA
NW_QUAD_CORNER_XY: 727099.65800 4507541.20400
NE_QUAD_CORNER_XY: 732381.65300 4507704.72600
SE_QUAD_CORNERY_XY: 732598.80500 4500765.82700
SW_QUAD_CORNER_XY: 727311.86600 4500602.36000
SECONDARY_NW_QUAD_XY: 727105.72600 4507329.95600
SECONDARY_NE_QUAD_XY: 732387.86300 4507493.48200
SECONDARY_SE_QUAD_XY: 732605.01100 4500554.69700
SECONDARY_SW_QUAD_XY: 727317.93000 4500391.22500
RMSE_XY: 2.39000
IMAGE_SOURCE: BLACK AND WHITE FILM
SOURCE_IMAGE_ID: NAPP 10506-044
SOURCE_IMAGE_DATE: 1998 8 24
SOURCE_DEM_DATE: 2001 1 1
AGENCY: WESTERN MAPPING CENTER (WMC)
PRODUCER: WOOLPERT LLP
PRODUCTION_SYSTEM: INTERGRAPH ISPM, ISIR
COMPRESSION: UNDEFINED
STANDARD_VERSION: 1996 12
METADATA_DATE: 2001 7 11
DATA_FILE_SIZE: 47898144
BYTE_COUNT: 6198
