FILENAME: 40120F42
QUADRANGLE_NAME: WEST OF SNOWSTORM MOUNTAIN
QUADRANT: NE
WEST_LONGITUDE: -120 26 15.00000
EAST_LONGITUDE: -120 22 30.00000
NORTH_LATITUDE: 40 45 0.00000
SOUTH_LATITUDE: 40 41 15.00000
PRODUCTION_DATE: 2001 7 9
RASTER_ORDER: LEFT_RIGHT/TOP_BOTTOM
BAND_ORGANIZATION: SINGLE FILE
BAND_CONTENT: BLACK&WHITE
BAND_CONTENT: UNDEFINED
BAND_CONTENT: UNDEFINED
BITS_PER_PIXEL: 8
SAMPLES_AND_LINES: 6184 7720
HORIZONTAL_DATUM: NAD83
HORIZONTAL_COORDINATE_SYSTEM: UTM
COORDINATE_ZONE: 10
HORIZONTAL_UNITS: meters
HORIZONTAL_RESOLUTION: 1.00000
SECONDARY_HORIZONTAL_DATUM: NAD27
XY_ORIGIN: 715939.00000 4514626.00000
SECONDARY_XY_ORIGIN: 716033.80900 4514428.56200
NATION: US
STATE: CA
NW_QUAD_CORNER_XY: 716333.21000 4514164.25600
NE_QUAD_CORNER_XY: 721610.17500 4514320.29800
SE_QUAD_CORNERY_XY: 721817.70400 4507381.44800
SW_QUAD_CORNER_XY: 716535.78900 4507225.45700
SECONDARY_NW_QUAD_XY: 716338.99900 4513952.88600
SECONDARY_NE_QUAD_XY: 721616.10500 4514108.93200
SECONDARY_SE_QUAD_XY: 721823.63100 4507170.19500
SECONDARY_SW_QUAD_XY: 716541.57500 4507014.20000
RMSE_XY: 1.26000
IMAGE_SOURCE: BLACK AND WHITE FILM
SOURCE_IMAGE_ID: NAPP 10500-082
SOURCE_IMAGE_DATE: 1998 8 12
SOURCE_DEM_DATE: 1994 0 0
AGENCY: WESTERN MAPPING CENTER (WMC)
PRODUCER: WOOLPERT LLP
PRODUCTION_SYSTEM: INTERGRAPH ISPM, ISIR
COMPRESSION: UNDEFINED
STANDARD_VERSION: 1996 12
METADATA_DATE: 2001 7 9
DATA_FILE_SIZE: 47746664
BYTE_COUNT: 6184
