FILENAME: 40120F41
QUADRANGLE_NAME: WEST OF SNOWSTORM MOUNTAIN
QUADRANT: NW
WEST_LONGITUDE: -120 30 0.00000
EAST_LONGITUDE: -120 26 15.00000
NORTH_LATITUDE: 40 45 0.00000
SOUTH_LATITUDE: 40 41 15.00000
PRODUCTION_DATE: 2001 7 9
RASTER_ORDER: LEFT_RIGHT/TOP_BOTTOM
BAND_ORGANIZATION: SINGLE FILE
BAND_CONTENT: BLACK&WHITE
BAND_CONTENT: UNDEFINED
BAND_CONTENT: UNDEFINED
BITS_PER_PIXEL: 8
SAMPLES_AND_LINES: 6179 7716
HORIZONTAL_DATUM: NAD83
HORIZONTAL_COORDINATE_SYSTEM: UTM
COORDINATE_ZONE: 10
HORIZONTAL_UNITS: meters
HORIZONTAL_RESOLUTION: 1.00000
SECONDARY_HORIZONTAL_DATUM: NAD27
XY_ORIGIN: 710662.00000 4514470.00000
SECONDARY_XY_ORIGIN: 710756.86800 4514272.53000
NATION: US
STATE: CA
NW_QUAD_CORNER_XY: 711056.28300 4514011.98000
NE_QUAD_CORNER_XY: 716333.21000 4514164.25600
SE_QUAD_CORNERY_XY: 716535.78900 4507225.45700
SW_QUAD_CORNER_XY: 711253.91400 4507073.23100
SECONDARY_NW_QUAD_XY: 711061.93100 4513800.60600
SECONDARY_NE_QUAD_XY: 716338.99900 4513952.88600
SECONDARY_SE_QUAD_XY: 716541.57500 4507014.20000
SECONDARY_SW_QUAD_XY: 711259.55800 4506861.97100
RMSE_XY: 1.12000
IMAGE_SOURCE: BLACK AND WHITE FILM
SOURCE_IMAGE_ID: NAPP 10507-277
SOURCE_IMAGE_DATE: 1998 8 25
SOURCE_DEM_DATE: 1994 0 0
AGENCY: WESTERN MAPPING CENTER (WMC)
PRODUCER: WOOLPERT LLP
PRODUCTION_SYSTEM: INTERGRAPH ISPM, ISIR
COMPRESSION: UNDEFINED
STANDARD_VERSION: 1996 12
METADATA_DATE: 2001 7 9
DATA_FILE_SIZE: 47683343
BYTE_COUNT: 6179
