FILENAME: 40120F44
QUADRANGLE_NAME: WEST OF SNOWSTORM MOUNTAIN
QUADRANT: SW
WEST_LONGITUDE: -120 30 0.00000
EAST_LONGITUDE: -120 26 15.00000
NORTH_LATITUDE: 40 41 15.00000
SOUTH_LATITUDE: 40 37 30.00000
PRODUCTION_DATE: 2001 7 9
RASTER_ORDER: LEFT_RIGHT/TOP_BOTTOM
BAND_ORGANIZATION: SINGLE FILE
BAND_CONTENT: BLACK&WHITE
BAND_CONTENT: UNDEFINED
BAND_CONTENT: UNDEFINED
BITS_PER_PIXEL: 8
SAMPLES_AND_LINES: 6185 7716
HORIZONTAL_DATUM: NAD83
HORIZONTAL_COORDINATE_SYSTEM: UTM
COORDINATE_ZONE: 10
HORIZONTAL_UNITS: meters
HORIZONTAL_RESOLUTION: 1.00000
SECONDARY_HORIZONTAL_DATUM: NAD27
XY_ORIGIN: 710859.00000 4507531.00000
SECONDARY_XY_ORIGIN: 710953.91100 4507333.64300
NATION: US
STATE: CA
NW_QUAD_CORNER_XY: 711253.91400 4507073.23100
NE_QUAD_CORNER_XY: 716535.78900 4507225.45700
SE_QUAD_CORNERY_XY: 716738.11000 4500286.71800
SW_QUAD_CORNER_XY: 711451.29200 4500134.54400
SECONDARY_NW_QUAD_XY: 711259.55800 4506861.97100
SECONDARY_NE_QUAD_XY: 716541.57500 4507014.20000
SECONDARY_SE_QUAD_XY: 716743.89300 4500075.57600
SECONDARY_SW_QUAD_XY: 711456.93300 4499923.39700
RMSE_XY: 1.16000
IMAGE_SOURCE: BLACK AND WHITE FILM
SOURCE_IMAGE_ID: NAPP 10507-275
SOURCE_IMAGE_DATE: 1998 8 25
SOURCE_DEM_DATE: 1994 0 0
AGENCY: WESTERN MAPPING CENTER (WMC)
PRODUCER: WOOLPERT LLP
PRODUCTION_SYSTEM: INTERGRAPH ISPM, ISIR
COMPRESSION: UNDEFINED
STANDARD_VERSION: 1996 12
METADATA_DATE: 2001 7 9
DATA_FILE_SIZE: 47729645
BYTE_COUNT: 6185
