FILENAME: 40120F53
QUADRANGLE_NAME: FREDONYER PEAK
QUADRANT: SE
WEST_LONGITUDE: -120 33 45.00000
EAST_LONGITUDE: -120 30 0.00000
NORTH_LATITUDE: 40 41 15.00000
SOUTH_LATITUDE: 40 37 30.00000
PRODUCTION_DATE: 2001 7 10
RASTER_ORDER: LEFT_RIGHT/TOP_BOTTOM
BAND_ORGANIZATION: SINGLE FILE
BAND_CONTENT: BLACK&WHITE
BAND_CONTENT: UNDEFINED
BAND_CONTENT: UNDEFINED
BITS_PER_PIXEL: 8
SAMPLES_AND_LINES: 6180 7712
HORIZONTAL_DATUM: NAD83
HORIZONTAL_COORDINATE_SYSTEM: UTM
COORDINATE_ZONE: 10
HORIZONTAL_UNITS: meters
HORIZONTAL_RESOLUTION: 1.00000
SECONDARY_HORIZONTAL_DATUM: NAD27
XY_ORIGIN: 705577.00000 4507379.00000
SECONDARY_XY_ORIGIN: 705671.93900 4507181.67800
NATION: US
STATE: CA
NW_QUAD_CORNER_XY: 705972.07600 4506924.77000
NE_QUAD_CORNER_XY: 711253.91400 4507073.23100
SE_QUAD_CORNERY_XY: 711451.29200 4500134.54400
SW_QUAD_CORNER_XY: 706164.51300 4499986.13200
SECONDARY_NW_QUAD_XY: 705977.58000 4506713.50500
SECONDARY_NE_QUAD_XY: 711259.55800 4506861.97100
SECONDARY_SE_QUAD_XY: 711456.93300 4499923.39700
SECONDARY_SW_QUAD_XY: 706170.01300 4499774.98100
RMSE_XY: 1.13000
IMAGE_SOURCE: BLACK AND WHITE FILM
SOURCE_IMAGE_ID: NAPP 10507-248
SOURCE_IMAGE_DATE: 1998 8 25
SOURCE_DEM_DATE: 1997 7 1
AGENCY: WESTERN MAPPING CENTER (WMC)
PRODUCER: WOOLPERT LLP
PRODUCTION_SYSTEM: INTERGRAPH ISPM, ISIR
COMPRESSION: UNDEFINED
STANDARD_VERSION: 1996 12
METADATA_DATE: 2001 7 10
DATA_FILE_SIZE: 47666340
BYTE_COUNT: 6180
