BEGIN_USGS_DOQ_HEADER *
QUADRANGLE_NAME "TROXEL POINT" 3.45 or 7.5-min. name*
QUADRANT SE quadrant indicator if cell size = 3.75-minutes*
WEST_LONGITUDE -120 41 15.000 signed deg min sec SDDD MM SS.SSS*
EAST_LONGITUDE -120 37 30.000 signed deg min sec SDDD MM SS.SSS*
NORTH_LATITUDE 40 41 15.000 signed deg min sec SDDD MM SS.SSS*
SOUTH_LATITUDE 40 37 30.000 signed deg min sec SDDD MM SS.SSS*
PRODUCTION_DATE 2000 7 5 yyyy mm dd*
RASTER_ORDER left_right/top_bottom video display order*
BAND_ORGANIZATION "single file" single file or BSQ, or BIL or BIP*
BAND_CONTENT BLACK&WHITE black&white or red green blue*
BITS_PER_PIXEL 8 radiometric resolution*
SAMPLES_AND_LINES 6170 7705 number of columns and rows*
HORIZONTAL_DATUM NAD83 primary horizontal datum*
HORIZONTAL_COORDINATE_SYSTEM UTM *
COORDINATE_ZONE 10 coordinate system zone number*
HORIZONTAL_UNITS meters coordinate system units*
HORIZONTAL_RESOLUTION 1.00 pixel horiz. ground sample distance*
SECONDARY_HORIZONTAL_DATUM NAD27 secondary horizontal datum*
XY_ORIGIN 695013.000 4507086.000 coord. of upper left pixel pri. datum*
SECONDARY_XY_ORIGIN 695107.995 4506888.748 coord upper left pixel sec datum*
NATION US nation code*
STATE CA state fip code*
NW_QUAD_CORNER_XY 695408.512 4506639.139 XY coords. of pri. NW quad corner*
NE_QUAD_CORNER_XY 700690.276 4506780.073 XY coords. of pri. NE quad corner*
SE_QUAD_CORNER_XY 700877.771 4499841.483 XY coords. of pri. SE quad corner*
SW_QUAD_CORNER_XY 695591.066 4499700.597 XY coords. of pri. SW quad corner*
SECONDARY_NW_QUAD_XY 695413.733 4506427.867 XY coords. - sec. NW quad cor.*
SECONDARY_NE_QUAD_XY 700695.638 4506568.804 XY coords. - sec. NE quad cor.*
SECONDARY_SE_QUAD_XY 700883.130 4499630.329 XY coords. - sec. SE quad cor.*
SECONDARY_SW_QUAD_XY 695596.284 4499489.439 XY coords. - sec. SW quad cor.*
RMSE_XY 4.17 doq horiz. accuracy*
IMAGE_SOURCE "BLACK AND WHITE FILM" b&w, cir, natural color, other*
SOURCE_IMAGE_ID "NAPP 10507-102" source image id*
SOURCE_IMAGE_DATE 1998 8 25 source image date as yyyy mm dd*
SOURCE_DEM_DATE 1997 7 1 source dem date yyyy mm dd*
AGENCY "WESTERN MAPPING CENTER (WMC)" oversight agency*
PRODUCER "WOOLPERT LLP" producer/contractor*
PRODUCTION_SYSTEM "INTERGRAPH ISPM, ISIR" production system*
STANDARD_VERSION 1996 12 version of DOQ standard*
METADATA_DATE 2000 7 5 date created or changed, yyyy mm dd*
DATA_FILE_SIZE 47546020 data set size in bytes*
BYTE_COUNT 6170 header byte count* * * * * * * * * * * * * * * * * * * * * * * * * * * * * * * * * * *
END_USGS_HEADER *
