BEGIN_USGS_DOQ_HEADER *
QUADRANGLE_NAME "CHAMPS FLAT" 3.45 or 7.5-min. name*
QUADRANT SE quadrant indicator if cell size = 3.75-minutes*
WEST_LONGITUDE -120 56 15.000 signed deg min sec SDDD MM SS.SSS*
EAST_LONGITUDE -120 52 30.000 signed deg min sec SDDD MM SS.SSS*
NORTH_LATITUDE 40 41 15.000 signed deg min sec SDDD MM SS.SSS*
SOUTH_LATITUDE 40 37 30.000 signed deg min sec SDDD MM SS.SSS*
PRODUCTION_DATE 2000 6 28 yyyy mm dd*
RASTER_ORDER left_right/top_bottom video display order*
BAND_ORGANIZATION "single file" single file or BSQ, or BIL or BIP*
BAND_CONTENT BLACK&WHITE black&white or red green blue*
BITS_PER_PIXEL 8 radiometric resolution*
SAMPLES_AND_LINES 6151 7689 number of columns and rows*
HORIZONTAL_DATUM NAD83 primary horizontal datum*
HORIZONTAL_COORDINATE_SYSTEM UTM *
COORDINATE_ZONE 10 coordinate system zone number*
HORIZONTAL_UNITS meters coordinate system units*
HORIZONTAL_RESOLUTION 1.00 pixel horiz. ground sample distance*
SECONDARY_HORIZONTAL_DATUM NAD27 secondary horizontal datum*
XY_ORIGIN 673886.000 4506544.000 coord. of upper left pixel pri. datum*
SECONDARY_XY_ORIGIN 673980.974 4506346.879 coord upper left pixel sec datum*
NATION US nation code*
STATE CA state fip code*
NW_QUAD_CORNER_XY 674281.798 4506113.033 XY coords. of pri. NW quad corner*
NE_QUAD_CORNER_XY 679563.427 4506238.916 XY coords. of pri. NE quad corner*
SE_QUAD_CORNER_XY 679731.162 4499300.508 XY coords. of pri. SE quad corner*
SW_QUAD_CORNER_XY 674444.595 4499174.667 XY coords. of pri. SW quad corner*
SECONDARY_NW_QUAD_XY 674286.455 4505901.746 XY coords. - sec. NW quad cor.*
SECONDARY_NE_QUAD_XY 679568.225 4506027.633 XY coords. - sec. NE quad cor.*
SECONDARY_SE_QUAD_XY 679735.957 4499089.339 XY coords. - sec. SE quad cor.*
SECONDARY_SW_QUAD_XY 674449.248 4498963.495 XY coords. - sec. SW quad cor.*
RMSE_XY 3.85 doq horiz. accuracy*
IMAGE_SOURCE "BLACK AND WHITE FILM" b&w, cir, natural color, other*
SOURCE_IMAGE_ID "NAPP 10497-125" source image id*
SOURCE_IMAGE_DATE 1998 8 3 source image date as yyyy mm dd*
SOURCE_IMAGE_ID "NAPP 10497-048" source image id*
SOURCE_IMAGE_DATE 1998 8 3 source image date as yyyy mm dd*
SOURCE_DEM_DATE 1997 7 1 source dem date yyyy mm dd*
AGENCY "WESTERN MAPPING CENTER (WMC)" oversight agency*
PRODUCER "WOOLPERT LLP" producer/contractor*
PRODUCTION_SYSTEM "INTERGRAPH ISPM, ISIR" production system*
STANDARD_VERSION 1996 12 version of DOQ standard*
METADATA_DATE 2000 6 28 date created or changed, yyyy mm dd*
DATA_FILE_SIZE 47301190 data set size in bytes*
BYTE_COUNT 6151 header byte count* * * * * * * * * * * * * * * * * * * * * * * * * * * * * * * *
END_USGS_HEADER *
