BEGIN_USGS_DOQ_HEADER *
QUADRANGLE_NAME "BUCKHORN CANYON" 3.45 or 7.5-min. name*
QUADRANT NE quadrant indicator if cell size = 3.75-minutes*
WEST_LONGITUDE -120 3 45.000 signed deg min sec SDDD MM SS.SSS*
EAST_LONGITUDE -120 0 0.000 signed deg min sec SDDD MM SS.SSS*
NORTH_LATITUDE 40 52 30.000 signed deg min sec SDDD MM SS.SSS*
SOUTH_LATITUDE 40 48 45.000 signed deg min sec SDDD MM SS.SSS*
PRODUCTION_DATE 1998 4 29 yyyy mm dd*
RASTER_ORDER LEFT_RIGHT/TOP_BOTTOM video display order*
BAND_ORGANIZATION "SINGLE FILE" single file or BSQ, or BIL or BIP*
BAND_CONTENT BLACK&WHITE black&white or red green blue*
BITS_PER_PIXEL 8 radiometric resolution*
SAMPLES_AND_LINES 6196 7736 number of columns and rows*
HORIZONTAL_DATUM NAD83 primary horizontal datum*
HORIZONTAL_COORDINATE_SYSTEM UTM *
COORDINATE_ZONE 10 coordinate system zone number*
HORIZONTAL_UNITS METERS coordinate system units*
HORIZONTAL_RESOLUTION 1.00 pixel horiz. ground sample distance*
SECONDARY_HORIZONTAL_DATUM NAD27 secondary horizontal datum*
XY_ORIGIN 747141.000 4529515.000 coord. of upper left pixel pri. datum*
SECONDARY_XY_ORIGIN 747235.332 4529317.702 coord upper left pixel sec datum*
NATION US nation code*
STATE CA state fip code*
NW_QUAD_CORNER_XY 747530.150 4529035.436 XY coords. of pri. NW quad corner*
NE_QUAD_CORNER_XY 752797.439 4529214.200 XY coords. of pri. NE quad corner*
SE_QUAD_CORNER_XY 753035.282 4522274.906 XY coords. of pri. SE quad corner*
SW_QUAD_CORNER_XY 747763.027 4522096.199 XY coords. of pri. SW quad corner*
SECONDARY_NW_QUAD_XY 747536.794 4528823.869 XY coords. - sec. NW quad cor.*
SECONDARY_NE_QUAD_XY 752804.225 4529002.638 XY coords. - sec. NE quad cor.*
SECONDARY_SE_QUAD_XY 753042.064 4522063.455 XY coords. - sec. SE quad cor.*
SECONDARY_SW_QUAD_XY 747769.668 4521884.743 XY coords. - sec. SW quad cor.*
RMSE_XY 2.80 doq horiz. accuracy*
IMAGE_SOURCE "BLACK AND WHITE FILM" b&w, cir, natural color, other*
SOURCE_IMAGE_ID "NAPP 6202 206" source image id*
SOURCE_IMAGE_DATE 1993 07 08 source image date as yyyy mm dd*
IMAGE_SOURCE "BLACK AND WHITE FILM" b&w, cir, natural color, other*
SOURCE_IMAGE_ID "NAPP 6203 039" source image id*
SOURCE_IMAGE_DATE 1993 07 08 source image date as yyyy mm dd*
IMAGE_SOURCE "BLACK AND WHITE FILM" b&w, cir, natural color, other*
SOURCE_IMAGE_ID "NAPP 6203 038" source image id*
SOURCE_IMAGE_DATE 1993 07 08 source image date as yyyy mm dd*
IMAGE_SOURCE "BLACK AND WHITE FILM" b&w, cir, natural color, other*
SOURCE_IMAGE_ID "NAPP 6202 205" source image id*
SOURCE_IMAGE_DATE 1993 07 08 source image date as yyyy mm dd*
IMAGE_SOURCE "BLACK AND WHITE FILM" b&w, cir, natural color, other*
SOURCE_IMAGE_ID "NAPP 6202 207" source image id*
SOURCE_IMAGE_DATE 1993 07 08 source image date as yyyy mm dd*
SOURCE_DEM_DATE 1997 01 01 source dem date yyyy mm dd*
AGENCY "WESTERN MAPPING CENTER (WMC)" oversight agency*
PRODUCER "SCIENCE APPLICATIONS INTERNATIONAL" producer/contractor*
PRODUCTION_SYSTEM "GIS/MAGIC" production system*
STANDARD_VERSION 1996 12 version of DOQ standard*
METADATA_DATE 1998 04 29 date created or changed, yyyy mm dd*
DATA_FILE_SIZE 47938452 data set size in bytes*
BYTE_COUNT 6196 header byte count* * * * * * * * * * * * * * * * * * * * * * *
END_USGS_HEADER *
