BEGIN_USGS_DOQ_HEADER *
QUADRANGLE_NAME "BUCKHORN CANYON" 3.45 or 7.5-min. name*
QUADRANT SW quadrant indicator if cell size = 3.75-minutes*
WEST_LONGITUDE -120 7 30.000 signed deg min sec SDDD MM SS.SSS*
EAST_LONGITUDE -120 3 45.000 signed deg min sec SDDD MM SS.SSS*
NORTH_LATITUDE 40 48 45.000 signed deg min sec SDDD MM SS.SSS*
SOUTH_LATITUDE 40 45 0.000 signed deg min sec SDDD MM SS.SSS*
PRODUCTION_DATE 1998 4 23 yyyy mm dd*
RASTER_ORDER LEFT_RIGHT/TOP_BOTTOM video display order*
BAND_ORGANIZATION "SINGLE FILE" single file or BSQ, or BIL or BIP*
BAND_CONTENT BLACK&WHITE black&white or red green blue*
BITS_PER_PIXEL 8 radiometric resolution*
SAMPLES_AND_LINES 6196 7731 number of columns and rows*
HORIZONTAL_DATUM NAD83 primary horizontal datum*
HORIZONTAL_COORDINATE_SYSTEM UTM *
COORDINATE_ZONE 10 coordinate system zone number*
HORIZONTAL_UNITS METERS coordinate system units*
HORIZONTAL_RESOLUTION 1.00 pixel horiz. ground sample distance*
SECONDARY_HORIZONTAL_DATUM NAD27 secondary horizontal datum*
XY_ORIGIN 742101.000 4522397.000 coord. of upper left pixel pri. datum*
SECONDARY_XY_ORIGIN 742195.452 4522199.702 coord upper left pixel sec datum*
NATION US nation code*
STATE CA state fip code*
NW_QUAD_CORNER_XY 742490.815 4521921.262 XY coords. of pri. NW quad corner*
NE_QUAD_CORNER_XY 747763.027 4522096.199 XY coords. of pri. NE quad corner*
SE_QUAD_CORNER_XY 747995.608 4515157.017 XY coords. of pri. SE quad corner*
SW_QUAD_CORNER_XY 742718.437 4514982.137 XY coords. of pri. SW quad corner*
SECONDARY_NW_QUAD_XY 742497.314 4521709.802 XY coords. - sec. NW quad cor.*
SECONDARY_NE_QUAD_XY 747769.668 4521884.743 XY coords. - sec. NE quad cor.*
SECONDARY_SE_QUAD_XY 748002.245 4514945.674 XY coords. - sec. SE quad cor.*
SECONDARY_SW_QUAD_XY 742724.933 4514770.789 XY coords. - sec. SW quad cor.*
RMSE_XY 1.60 doq horiz. accuracy*
IMAGE_SOURCE "BLACK AND WHITE FILM" b&w, cir, natural color, other*
SOURCE_IMAGE_ID "NAPP 6203 041" source image id*
SOURCE_IMAGE_DATE 1993 07 08 source image date as yyyy mm dd*
IMAGE_SOURCE "BLACK AND WHITE FILM" b&w, cir, natural color, other*
SOURCE_IMAGE_ID "NAPP 6203 040" source image id*
SOURCE_IMAGE_DATE 1993 07 08 source image date as yyyy mm dd*
SOURCE_DEM_DATE 1997 01 01 source dem date yyyy mm dd*
AGENCY "WESTERN MAPPING CENTER (WMC)" oversight agency*
PRODUCER "SCIENCE APPLICATIONS INTERNATIONAL" producer/contractor*
PRODUCTION_SYSTEM "GIS/MAGIC" production system*
STANDARD_VERSION 1996 12 version of DOQ standard*
METADATA_DATE 1998 04 29 date created or changed, yyyy mm dd*
DATA_FILE_SIZE 47907472 data set size in bytes*
BYTE_COUNT 6196 header byte count* * * * * * * * * * * * * * * * * * * * * * * * * * * * * * * *
END_USGS_HEADER *
