FILENAME: 40120G22
QUADRANGLE_NAME: OBSERVATION PEAK
QUADRANT: NE
WEST_LONGITUDE: -120 11 15.00000
EAST_LONGITUDE: -120 7 30.00000
NORTH_LATITUDE: 40 52 30.00000
SOUTH_LATITUDE: 40 48 45.00000
PRODUCTION_DATE: 2001 10 1
RASTER_ORDER: LEFT_RIGHT/TOP_BOTTOM
BAND_ORGANIZATION: SINGLE FILE
BAND_CONTENT: BLACK&WHITE
BAND_CONTENT: UNDEFINED
BAND_CONTENT: UNDEFINED
BITS_PER_PIXEL: 8
SAMPLES_AND_LINES: 6194 7736
HORIZONTAL_DATUM: NAD83
HORIZONTAL_COORDINATE_SYSTEM: UTM
COORDINATE_ZONE: 10
HORIZONTAL_UNITS: meters
HORIZONTAL_RESOLUTION: 1.00000
SECONDARY_HORIZONTAL_DATUM: NAD27
XY_ORIGIN: 736602.00000 4529166.00000
SECONDARY_XY_ORIGIN: 736696.46700 4528968.58600
NATION: US
STATE: CA
NW_QUAD_CORNER_XY: 736995.69800 4528689.22200
NE_QUAD_CORNER_XY: 742262.90300 4528860.44400
SE_QUAD_CORNERY_XY: 742490.81500 4521921.26300
SW_QUAD_CORNER_XY: 737218.64500 4521750.09600
SECONDARY_NW_QUAD_XY: 737002.05900 4528477.64600
SECONDARY_NE_QUAD_XY: 742269.40600 4528648.87200
SECONDARY_SE_QUAD_XY: 742497.31400 4521709.80200
SECONDARY_SW_QUAD_XY: 737225.00300 4521538.63100
RMSE_XY: 1.15000
IMAGE_SOURCE: BLACK AND WHITE FILM
SOURCE_IMAGE_ID: NAPP 10511-123
SOURCE_IMAGE_DATE: 1999 9 26
SOURCE_DEM_DATE: 1997 6 1
AGENCY: WESTERN MAPPING CENTER (WMC)
PRODUCER: WOOLPERT LLP
PRODUCTION_SYSTEM: INTERGRAPH ISPM, ISIR
COMPRESSION: UNDEFINED
STANDARD_VERSION: 1996 12
METADATA_DATE: 2001 10 4
DATA_FILE_SIZE: 47922978
BYTE_COUNT: 6194
