FILENAME: 40120G21
QUADRANGLE_NAME: OBSERVATION PEAK
QUADRANT: NW
WEST_LONGITUDE: -120 15 0.00000
EAST_LONGITUDE: -120 11 15.00000
NORTH_LATITUDE: 40 52 30.00000
SOUTH_LATITUDE: 40 48 45.00000
PRODUCTION_DATE: 2001 10 1
RASTER_ORDER: LEFT_RIGHT/TOP_BOTTOM
BAND_ORGANIZATION: SINGLE FILE
BAND_CONTENT: BLACK&WHITE
BAND_CONTENT: UNDEFINED
BAND_CONTENT: UNDEFINED
BITS_PER_PIXEL: 8
SAMPLES_AND_LINES: 6189 7732
HORIZONTAL_DATUM: NAD83
HORIZONTAL_COORDINATE_SYSTEM: UTM
COORDINATE_ZONE: 10
HORIZONTAL_UNITS: meters
HORIZONTAL_RESOLUTION: 1.00000
SECONDARY_HORIZONTAL_DATUM: NAD27
XY_ORIGIN: 731335.00000 4528995.00000
SECONDARY_XY_ORIGIN: 731429.53400 4528797.52700
NATION: US
STATE: CA
NW_QUAD_CORNER_XY: 731728.53300 4528521.77100
NE_QUAD_CORNER_XY: 736995.69800 4528689.22200
SE_QUAD_CORNERY_XY: 737218.64500 4521750.09600
SW_QUAD_CORNER_XY: 731946.51700 4521582.69800
SECONDARY_NW_QUAD_XY: 731734.75300 4528310.19000
SECONDARY_NE_QUAD_XY: 737002.05900 4528477.64600
SECONDARY_SE_QUAD_XY: 737225.00300 4521538.63100
SECONDARY_SW_QUAD_XY: 731952.73300 4521371.22800
RMSE_XY: 1.21000
IMAGE_SOURCE: BLACK AND WHITE FILM
SOURCE_IMAGE_ID: NAPP 10511-046
SOURCE_IMAGE_DATE: 1999 9 26
SOURCE_DEM_DATE: 1997 6 1
AGENCY: WESTERN MAPPING CENTER (WMC)
PRODUCER: WOOLPERT LLP
PRODUCTION_SYSTEM: INTERGRAPH ISPM, ISIR
COMPRESSION: UNDEFINED
STANDARD_VERSION: 1996 12
METADATA_DATE: 2001 10 4
DATA_FILE_SIZE: 47859537
BYTE_COUNT: 6189
