FILENAME: 40120G32
QUADRANGLE_NAME: RAVENDALE
QUADRANT: NE
WEST_LONGITUDE: -120 18 45.00000
EAST_LONGITUDE: -120 15 0.00000
NORTH_LATITUDE: 40 52 30.00000
SOUTH_LATITUDE: 40 48 45.00000
PRODUCTION_DATE: 2001 7 9
RASTER_ORDER: LEFT_RIGHT/TOP_BOTTOM
BAND_ORGANIZATION: SINGLE FILE
BAND_CONTENT: BLACK&WHITE
BAND_CONTENT: UNDEFINED
BAND_CONTENT: UNDEFINED
BITS_PER_PIXEL: 8
SAMPLES_AND_LINES: 6185 7727
HORIZONTAL_DATUM: NAD83
HORIZONTAL_COORDINATE_SYSTEM: UTM
COORDINATE_ZONE: 10
HORIZONTAL_UNITS: meters
HORIZONTAL_RESOLUTION: 1.00000
SECONDARY_HORIZONTAL_DATUM: NAD27
XY_ORIGIN: 726067.00000 4528827.00000
SECONDARY_XY_ORIGIN: 726161.58400 4528629.48100
NATION: US
STATE: CA
NW_QUAD_CORNER_XY: 726461.40900 4528358.09000
NE_QUAD_CORNER_XY: 731728.53300 4528521.77100
SE_QUAD_CORNERY_XY: 731946.51700 4521582.69800
SW_QUAD_CORNER_XY: 726674.42900 4521419.06900
SECONDARY_NW_QUAD_XY: 726467.48700 4528146.50400
SECONDARY_NE_QUAD_XY: 731734.75300 4528310.19000
SECONDARY_SE_QUAD_XY: 731952.73300 4521371.22800
SECONDARY_SW_QUAD_XY: 726680.50400 4521207.59500
RMSE_XY: 2.35000
IMAGE_SOURCE: BLACK AND WHITE FILM
SOURCE_IMAGE_ID: NAPP 10506-038
SOURCE_IMAGE_DATE: 1998 8 24
SOURCE_DEM_DATE: 1997 6 1
AGENCY: WESTERN MAPPING CENTER (WMC)
PRODUCER: WOOLPERT LLP
PRODUCTION_SYSTEM: INTERGRAPH ISPM, ISIR
COMPRESSION: UNDEFINED
STANDARD_VERSION: 1996 12
METADATA_DATE: 2001 7 9
DATA_FILE_SIZE: 47797680
BYTE_COUNT: 6185
