FILENAME: 40120G41
QUADRANGLE_NAME: TERMO
QUADRANT: NW
WEST_LONGITUDE: -120 30 0.00000
EAST_LONGITUDE: -120 26 15.00000
NORTH_LATITUDE: 40 52 30.00000
SOUTH_LATITUDE: 40 48 45.00000
PRODUCTION_DATE: 2001 7 8
RASTER_ORDER: LEFT_RIGHT/TOP_BOTTOM
BAND_ORGANIZATION: SINGLE FILE
BAND_CONTENT: BLACK&WHITE
BAND_CONTENT: UNDEFINED
BAND_CONTENT: UNDEFINED
BITS_PER_PIXEL: 8
SAMPLES_AND_LINES: 6170 7717
HORIZONTAL_DATUM: NAD83
HORIZONTAL_COORDINATE_SYSTEM: UTM
COORDINATE_ZONE: 10
HORIZONTAL_UNITS: meters
HORIZONTAL_RESOLUTION: 1.00000
SECONDARY_HORIZONTAL_DATUM: NAD27
XY_ORIGIN: 710266.00000 4528348.00000
SECONDARY_XY_ORIGIN: 710360.73500 4528150.34400
NATION: US
STATE: CA
NW_QUAD_CORNER_XY: 710660.26600 4527889.66100
NE_QUAD_CORNER_XY: 715927.27600 4528042.03500
SE_QUAD_CORNERY_XY: 716130.37200 4521103.11500
SW_QUAD_CORNER_XY: 710858.40000 4520950.79000
SECONDARY_NW_QUAD_XY: 710665.92000 4527678.06300
SECONDARY_NE_QUAD_XY: 715933.07100 4527830.44100
SECONDARY_SE_QUAD_XY: 716136.16400 4520891.63300
SECONDARY_SW_QUAD_XY: 710864.05100 4520739.30300
RMSE_XY: 1.24000
IMAGE_SOURCE: BLACK AND WHITE FILM
SOURCE_IMAGE_ID: NAPP 10507-281
SOURCE_IMAGE_DATE: 1998 8 25
SOURCE_DEM_DATE: 2001 0 0
AGENCY: WESTERN MAPPING CENTER (WMC)
PRODUCER: WOOLPERT LLP
PRODUCTION_SYSTEM: INTERGRAPH ISPM, ISIR
COMPRESSION: UNDEFINED
STANDARD_VERSION: 1996 12
METADATA_DATE: 2001 7 23
DATA_FILE_SIZE: 47620060
BYTE_COUNT: 6170
