FILENAME: 40120G43
QUADRANGLE_NAME: TERMO
QUADRANT: SE
WEST_LONGITUDE: -120 26 15.00000
EAST_LONGITUDE: -120 22 30.00000
NORTH_LATITUDE: 40 48 45.00000
SOUTH_LATITUDE: 40 45 0.00000
PRODUCTION_DATE: 2001 7 8
RASTER_ORDER: LEFT_RIGHT/TOP_BOTTOM
BAND_ORGANIZATION: SINGLE FILE
BAND_CONTENT: BLACK&WHITE
BAND_CONTENT: UNDEFINED
BAND_CONTENT: UNDEFINED
BITS_PER_PIXEL: 8
SAMPLES_AND_LINES: 6180 7720
HORIZONTAL_DATUM: NAD83
HORIZONTAL_COORDINATE_SYSTEM: UTM
COORDINATE_ZONE: 10
HORIZONTAL_UNITS: meters
HORIZONTAL_RESOLUTION: 1.00000
SECONDARY_HORIZONTAL_DATUM: NAD27
XY_ORIGIN: 715736.00000 4521565.00000
SECONDARY_XY_ORIGIN: 715830.74700 4521367.47400
NATION: US
STATE: CA
NW_QUAD_CORNER_XY: 716130.37200 4521103.11500
NE_QUAD_CORNER_XY: 721402.38100 4521259.20800
SE_QUAD_CORNERY_XY: 721610.17500 4514320.29800
SW_QUAD_CORNER_XY: 716333.21000 4514164.25600
SECONDARY_NW_QUAD_XY: 716136.16400 4520891.63300
SECONDARY_NE_QUAD_XY: 721408.31500 4521047.73000
SECONDARY_SE_QUAD_XY: 721616.10500 4514108.93200
SECONDARY_SW_QUAD_XY: 716338.99900 4513952.88600
RMSE_XY: 1.37000
IMAGE_SOURCE: BLACK AND WHITE FILM
SOURCE_IMAGE_ID: NAPP 10500-084
SOURCE_IMAGE_DATE: 1998 8 12
SOURCE_DEM_DATE: 2001 0 0
AGENCY: WESTERN MAPPING CENTER (WMC)
PRODUCER: WOOLPERT LLP
PRODUCTION_SYSTEM: INTERGRAPH ISPM, ISIR
COMPRESSION: UNDEFINED
STANDARD_VERSION: 1996 12
METADATA_DATE: 2001 7 23
DATA_FILE_SIZE: 47715780
BYTE_COUNT: 6180
