FILENAME: 40120G51
QUADRANGLE_NAME: CLEGHORN FLAT
QUADRANT: NW
WEST_LONGITUDE: -120 37 30.00000
EAST_LONGITUDE: -120 33 45.00000
NORTH_LATITUDE: 40 52 30.00000
SOUTH_LATITUDE: 40 48 45.00000
PRODUCTION_DATE: 2001 7 11
RASTER_ORDER: LEFT_RIGHT/TOP_BOTTOM
BAND_ORGANIZATION: SINGLE FILE
BAND_CONTENT: BLACK&WHITE
BAND_CONTENT: UNDEFINED
BAND_CONTENT: UNDEFINED
BITS_PER_PIXEL: 8
SAMPLES_AND_LINES: 6161 7709
HORIZONTAL_DATUM: NAD83
HORIZONTAL_COORDINATE_SYSTEM: UTM
COORDINATE_ZONE: 10
HORIZONTAL_UNITS: meters
HORIZONTAL_RESOLUTION: 1.00000
SECONDARY_HORIZONTAL_DATUM: NAD27
XY_ORIGIN: 699731.00000 4528047.00000
SECONDARY_XY_ORIGIN: 699825.83300 4527849.40800
NATION: US
STATE: CA
NW_QUAD_CORNER_XY: 700126.35300 4527596.21600
NE_QUAD_CORNER_XY: 705393.29200 4527741.05500
SE_QUAD_CORNERY_XY: 705586.46600 4520802.23100
SW_QUAD_CORNER_XY: 700314.56700 4520657.43900
SECONDARY_NW_QUAD_XY: 700131.72500 4527384.61000
SECONDARY_NE_QUAD_XY: 705398.80400 4527529.45300
SECONDARY_SE_QUAD_XY: 705591.97500 4520590.74100
SECONDARY_SW_QUAD_XY: 700319.93500 4520445.94500
RMSE_XY: 1.76000
IMAGE_SOURCE: BLACK AND WHITE FILM
SOURCE_IMAGE_ID: NAPP 10507-183
SOURCE_IMAGE_DATE: 1998 8 25
SOURCE_DEM_DATE: 1997 7 1
AGENCY: WESTERN MAPPING CENTER (WMC)
PRODUCER: WOOLPERT LLP
PRODUCTION_SYSTEM: INTERGRAPH ISPM, ISIR
COMPRESSION: UNDEFINED
STANDARD_VERSION: 1996 12
METADATA_DATE: 2001 7 11
DATA_FILE_SIZE: 47501310
BYTE_COUNT: 6161
