FILENAME: 40120G53
QUADRANGLE_NAME: CLEGHORN FLAT
QUADRANT: SE
WEST_LONGITUDE: -120 33 45.00000
EAST_LONGITUDE: -120 30 0.00000
NORTH_LATITUDE: 40 48 45.00000
SOUTH_LATITUDE: 40 45 0.00000
PRODUCTION_DATE: 2001 7 11
RASTER_ORDER: LEFT_RIGHT/TOP_BOTTOM
BAND_ORGANIZATION: SINGLE FILE
BAND_CONTENT: BLACK&WHITE
BAND_CONTENT: UNDEFINED
BAND_CONTENT: UNDEFINED
BITS_PER_PIXEL: 8
SAMPLES_AND_LINES: 6170 7712
HORIZONTAL_DATUM: NAD83
HORIZONTAL_COORDINATE_SYSTEM: UTM
COORDINATE_ZONE: 10
HORIZONTAL_UNITS: meters
HORIZONTAL_RESOLUTION: 1.00000
SECONDARY_HORIZONTAL_DATUM: NAD27
XY_ORIGIN: 705192.00000 4521256.00000
SECONDARY_XY_ORIGIN: 705286.84200 4521058.46900
NATION: US
STATE: CA
NW_QUAD_CORNER_XY: 705586.46600 4520802.23100
NE_QUAD_CORNER_XY: 710858.40000 4520950.79000
SE_QUAD_CORNERY_XY: 711056.28300 4514011.98000
SW_QUAD_CORNER_XY: 705779.39400 4513863.47000
SECONDARY_NW_QUAD_XY: 705591.97500 4520590.74100
SECONDARY_NE_QUAD_XY: 710864.05100 4520739.30300
SECONDARY_SE_QUAD_XY: 711061.93100 4513800.60600
SECONDARY_SW_QUAD_XY: 705784.90000 4513652.09200
RMSE_XY: 1.95000
IMAGE_SOURCE: BLACK AND WHITE FILM
SOURCE_IMAGE_ID: NAPP 10507-244
SOURCE_IMAGE_DATE: 1998 8 25
SOURCE_DEM_DATE: 1997 7 1
AGENCY: WESTERN MAPPING CENTER (WMC)
PRODUCER: WOOLPERT LLP
PRODUCTION_SYSTEM: INTERGRAPH ISPM, ISIR
COMPRESSION: UNDEFINED
STANDARD_VERSION: 1996 12
METADATA_DATE: 2001 7 11
DATA_FILE_SIZE: 47589210
BYTE_COUNT: 6170
