FILENAME: 40120G61
QUADRANGLE_NAME: GRASSHOPPER VALLEY
QUADRANT: NW
WEST_LONGITUDE: -120 45 0.00000
EAST_LONGITUDE: -120 41 15.00000
NORTH_LATITUDE: 40 52 30.00000
SOUTH_LATITUDE: 40 48 45.00000
PRODUCTION_DATE: 2001 7 7
RASTER_ORDER: LEFT_RIGHT/TOP_BOTTOM
BAND_ORGANIZATION: SINGLE FILE
BAND_CONTENT: BLACK&WHITE
BAND_CONTENT: UNDEFINED
BAND_CONTENT: UNDEFINED
BITS_PER_PIXEL: 8
SAMPLES_AND_LINES: 6151 7701
HORIZONTAL_DATUM: NAD83
HORIZONTAL_COORDINATE_SYSTEM: UTM
COORDINATE_ZONE: 10
HORIZONTAL_UNITS: meters
HORIZONTAL_RESOLUTION: 1.00000
SECONDARY_HORIZONTAL_DATUM: NAD27
XY_ORIGIN: 689197.00000 4527761.00000
SECONDARY_XY_ORIGIN: 689291.92900 4527563.47200
NATION: US
STATE: CA
NW_QUAD_CORNER_XY: 689592.57900 4527317.84000
NE_QUAD_CORNER_XY: 694859.44900 4527455.14500
SE_QUAD_CORNERY_XY: 695042.70300 4520516.41300
SW_QUAD_CORNER_XY: 689770.87400 4520379.15300
SECONDARY_NW_QUAD_XY: 689597.66700 4527106.22700
SECONDARY_NE_QUAD_XY: 694864.67900 4527243.53500
SECONDARY_SE_QUAD_XY: 695047.93000 4520304.91500
SECONDARY_SW_QUAD_XY: 689775.95900 4520167.65100
RMSE_XY: 2.33000
IMAGE_SOURCE: BLACK AND WHITE FILM
SOURCE_IMAGE_ID: NAPP 10507-021
SOURCE_IMAGE_DATE: 1998 8 25
SOURCE_DEM_DATE: 1997 7 1
AGENCY: WESTERN MAPPING CENTER (WMC)
PRODUCER: WOOLPERT LLP
PRODUCTION_SYSTEM: INTERGRAPH ISPM, ISIR
COMPRESSION: UNDEFINED
STANDARD_VERSION: 1996 12
METADATA_DATE: 2001 7 7
DATA_FILE_SIZE: 47375002
BYTE_COUNT: 6151
