BEGIN_USGS_DOQ_HEADER *
QUADRANGLE_NAME "BULLARD LAKE" 3.45 or 7.5-min. name*
QUADRANT SE quadrant indicator if cell size = 3.75-minutes*
WEST_LONGITUDE -120 56 15.000 signed deg min sec SDDD MM SS.SSS*
EAST_LONGITUDE -120 52 30.000 signed deg min sec SDDD MM SS.SSS*
NORTH_LATITUDE 40 48 45.000 signed deg min sec SDDD MM SS.SSS*
SOUTH_LATITUDE 40 45 0.000 signed deg min sec SDDD MM SS.SSS*
PRODUCTION_DATE 2000 6 28 yyyy mm dd*
RASTER_ORDER left_right/top_bottom video display order*
BAND_ORGANIZATION "single file" single file or BSQ, or BIL or BIP*
BAND_CONTENT BLACK&WHITE black&white or red green blue*
BITS_PER_PIXEL 8 radiometric resolution*
SAMPLES_AND_LINES 6141 7689 number of columns and rows*
HORIZONTAL_DATUM NAD83 primary horizontal datum*
HORIZONTAL_COORDINATE_SYSTEM UTM *
COORDINATE_ZONE 10 coordinate system zone number*
HORIZONTAL_UNITS meters coordinate system units*
HORIZONTAL_RESOLUTION 1.00 pixel horiz. ground sample distance*
SECONDARY_HORIZONTAL_DATUM NAD27 secondary horizontal datum*
XY_ORIGIN 673560.000 4520421.000 coord. of upper left pixel pri. datum*
SECONDARY_XY_ORIGIN 673654.904 4520223.655 coord upper left pixel sec datum*
NATION US nation code*
STATE CA state fip code*
NW_QUAD_CORNER_XY 673955.581 4519989.961 XY coords. of pri. NW quad corner*
NE_QUAD_CORNER_XY 679227.314 4520115.927 XY coords. of pri. NE quad corner*
SE_QUAD_CORNER_XY 679395.478 4513177.389 XY coords. of pri. SE quad corner*
SW_QUAD_CORNER_XY 674118.794 4513051.464 XY coords. of pri. SW quad corner*
SECONDARY_NW_QUAD_XY 673960.243 4519778.449 XY coords. - sec. NW quad cor.*
SECONDARY_NE_QUAD_XY 679232.116 4519904.418 XY coords. - sec. NE quad cor.*
SECONDARY_SE_QUAD_XY 679400.278 4512965.993 XY coords. - sec. SE quad cor.*
SECONDARY_SW_QUAD_XY 674123.453 4512840.064 XY coords. - sec. SW quad cor.*
RMSE_XY 3.08 doq horiz. accuracy*
IMAGE_SOURCE "BLACK AND WHITE FILM" b&w, cir, natural color, other*
SOURCE_IMAGE_ID "NAPP 10497-129" source image id*
SOURCE_IMAGE_DATE 1998 8 3 source image date as yyyy mm dd*
SOURCE_DEM_DATE 1997 7 1 source dem date yyyy mm dd*
AGENCY "WESTERN MAPPING CENTER (WMC)" oversight agency*
PRODUCER "WOOLPERT LLP" producer/contractor*
PRODUCTION_SYSTEM "INTERGRAPH ISPM, ISIR" production system*
STANDARD_VERSION 1996 12 version of DOQ standard*
METADATA_DATE 2000 6 28 date created or changed, yyyy mm dd*
DATA_FILE_SIZE 47224290 data set size in bytes*
BYTE_COUNT 6141 header byte count* * * * * * * * * * * * * * * * * * * * * * * * * * * * * * * * * *
END_USGS_HEADER *
