FILENAME: 40120H33
QUADRANGLE_NAME: JUNIPER RIDGE
QUADRANT: SE
WEST_LONGITUDE: -120 18 45.00000
EAST_LONGITUDE: -120 15 0.00000
NORTH_LATITUDE: 40 56 15.00000
SOUTH_LATITUDE: 40 52 30.00000
PRODUCTION_DATE: 2001 7 9
RASTER_ORDER: LEFT_RIGHT/TOP_BOTTOM
BAND_ORGANIZATION: SINGLE FILE
BAND_CONTENT: BLACK&WHITE
BAND_CONTENT: UNDEFINED
BAND_CONTENT: UNDEFINED
BITS_PER_PIXEL: 8
SAMPLES_AND_LINES: 6180 7727
HORIZONTAL_DATUM: NAD83
HORIZONTAL_COORDINATE_SYSTEM: UTM
COORDINATE_ZONE: 10
HORIZONTAL_UNITS: meters
HORIZONTAL_RESOLUTION: 1.00000
SECONDARY_HORIZONTAL_DATUM: NAD27
XY_ORIGIN: 725854.00000 4535766.00000
SECONDARY_XY_ORIGIN: 725948.53200 4535568.40000
NATION: US
STATE: CA
NW_QUAD_CORNER_XY: 726248.11800 4535297.17000
NE_QUAD_CORNER_XY: 731510.27300 4535460.90300
SE_QUAD_CORNERY_XY: 731728.53300 4528521.77100
SW_QUAD_CORNER_XY: 726461.40900 4528358.09000
SECONDARY_NW_QUAD_XY: 726254.20000 4535085.47300
SECONDARY_NE_QUAD_XY: 731516.49600 4535249.21100
SECONDARY_SE_QUAD_XY: 731734.75300 4528310.19000
SECONDARY_SW_QUAD_XY: 726467.48700 4528146.50400
RMSE_XY: 2.28000
IMAGE_SOURCE: BLACK AND WHITE FILM
SOURCE_IMAGE_ID: NAPP 10506-036
SOURCE_IMAGE_DATE: 1998 8 24
SOURCE_DEM_DATE: 1997 7 1
AGENCY: WESTERN MAPPING CENTER (WMC)
PRODUCER: WOOLPERT LLP
PRODUCTION_SYSTEM: INTERGRAPH ISPM, ISIR
COMPRESSION: UNDEFINED
STANDARD_VERSION: 1996 12
METADATA_DATE: 2001 7 9
DATA_FILE_SIZE: 47759040
BYTE_COUNT: 6180
