FILENAME: 40120H43
QUADRANGLE_NAME: MCDONALD PEAK
QUADRANT: SE
WEST_LONGITUDE: -120 26 15.00000
EAST_LONGITUDE: -120 22 30.00000
NORTH_LATITUDE: 40 56 15.00000
SOUTH_LATITUDE: 40 52 30.00000
PRODUCTION_DATE: 2001 7 8
RASTER_ORDER: LEFT_RIGHT/TOP_BOTTOM
BAND_ORGANIZATION: SINGLE FILE
BAND_CONTENT: BLACK&WHITE
BAND_CONTENT: UNDEFINED
BAND_CONTENT: UNDEFINED
BITS_PER_PIXEL: 8
SAMPLES_AND_LINES: 6170 7720
HORIZONTAL_DATUM: NAD83
HORIZONTAL_COORDINATE_SYSTEM: UTM
COORDINATE_ZONE: 10
HORIZONTAL_UNITS: meters
HORIZONTAL_RESOLUTION: 1.00000
SECONDARY_HORIZONTAL_DATUM: NAD27
XY_ORIGIN: 715330.00000 4535443.00000
SECONDARY_XY_ORIGIN: 715424.62200 4535245.30000
NATION: US
STATE: CA
NW_QUAD_CORNER_XY: 715723.92200 4534981.01500
NE_QUAD_CORNER_XY: 720986.00100 4535137.20700
SE_QUAD_CORNERY_XY: 721194.32300 4528198.17800
SW_QUAD_CORNER_XY: 715927.27600 4528042.03500
SECONDARY_NW_QUAD_XY: 715729.72100 4534769.31000
SECONDARY_NE_QUAD_XY: 720991.94100 4534925.50700
SECONDARY_SE_QUAD_XY: 721200.26000 4527986.58800
SECONDARY_SW_QUAD_XY: 715933.07100 4527830.44100
RMSE_XY: 1.26000
IMAGE_SOURCE: BLACK AND WHITE FILM
SOURCE_IMAGE_ID: NAPP 10500-088
SOURCE_IMAGE_DATE: 1998 8 12
SOURCE_DEM_DATE: 1997 7 1
AGENCY: WESTERN MAPPING CENTER (WMC)
PRODUCER: WOOLPERT LLP
PRODUCTION_SYSTEM: INTERGRAPH ISPM, ISIR
COMPRESSION: UNDEFINED
STANDARD_VERSION: 1996 12
METADATA_DATE: 2001 7 8
DATA_FILE_SIZE: 47638570
BYTE_COUNT: 6170
