FILENAME: 40120H44
QUADRANGLE_NAME: MCDONALD PEAK
QUADRANT: SW
WEST_LONGITUDE: -120 30 0.00000
EAST_LONGITUDE: -120 26 15.00000
NORTH_LATITUDE: 40 56 15.00000
SOUTH_LATITUDE: 40 52 30.00000
PRODUCTION_DATE: 2001 7 8
RASTER_ORDER: LEFT_RIGHT/TOP_BOTTOM
BAND_ORGANIZATION: SINGLE FILE
BAND_CONTENT: BLACK&WHITE
BAND_CONTENT: UNDEFINED
BAND_CONTENT: UNDEFINED
BITS_PER_PIXEL: 8
SAMPLES_AND_LINES: 6166 7717
HORIZONTAL_DATUM: NAD83
HORIZONTAL_COORDINATE_SYSTEM: UTM
COORDINATE_ZONE: 10
HORIZONTAL_UNITS: meters
HORIZONTAL_RESOLUTION: 1.00000
SECONDARY_HORIZONTAL_DATUM: NAD27
XY_ORIGIN: 710067.00000 4535287.00000
SECONDARY_XY_ORIGIN: 710161.66800 4535089.25200
NATION: US
STATE: CA
NW_QUAD_CORNER_XY: 710461.87900 4534828.59300
NE_QUAD_CORNER_XY: 715723.92200 4534981.01500
SE_QUAD_CORNERY_XY: 715927.27600 4528042.03500
SW_QUAD_CORNER_XY: 710660.26600 4527889.66100
SECONDARY_NW_QUAD_XY: 710467.53700 4534616.88400
SECONDARY_NE_QUAD_XY: 715729.72100 4534769.31000
SECONDARY_SE_QUAD_XY: 715933.07100 4527830.44100
SECONDARY_SW_QUAD_XY: 710665.92000 4527678.06300
RMSE_XY: 1.17000
IMAGE_SOURCE: BLACK AND WHITE FILM
SOURCE_IMAGE_ID: NAPP 10507-283
SOURCE_IMAGE_DATE: 1998 8 25
SOURCE_DEM_DATE: 1997 7 1
AGENCY: WESTERN MAPPING CENTER (WMC)
PRODUCER: WOOLPERT LLP
PRODUCTION_SYSTEM: INTERGRAPH ISPM, ISIR
COMPRESSION: UNDEFINED
STANDARD_VERSION: 1996 12
METADATA_DATE: 2001 7 8
DATA_FILE_SIZE: 47589188
BYTE_COUNT: 6166
