FILENAME: 40120H51
QUADRANGLE_NAME: ANDERSON MOUNTAIN
QUADRANT: NW
WEST_LONGITUDE: -120 37 30.00000
EAST_LONGITUDE: -120 33 45.00000
NORTH_LATITUDE: 41 0 0.00000
SOUTH_LATITUDE: 40 56 15.00000
PRODUCTION_DATE: 2001 7 11
RASTER_ORDER: LEFT_RIGHT/TOP_BOTTOM
BAND_ORGANIZATION: SINGLE FILE
BAND_CONTENT: BLACK&WHITE
BAND_CONTENT: UNDEFINED
BAND_CONTENT: UNDEFINED
BITS_PER_PIXEL: 8
SAMPLES_AND_LINES: 6151 7708
HORIZONTAL_DATUM: NAD83
HORIZONTAL_COORDINATE_SYSTEM: UTM
COORDINATE_ZONE: 10
HORIZONTAL_UNITS: meters
HORIZONTAL_RESOLUTION: 1.00000
SECONDARY_HORIZONTAL_DATUM: NAD27
XY_ORIGIN: 699354.00000 4541924.00000
SECONDARY_XY_ORIGIN: 699448.73500 4541726.22600
NATION: US
STATE: CA
NW_QUAD_CORNER_XY: 699749.20900 4541473.95800
NE_QUAD_CORNER_XY: 705006.20800 4541618.88700
SE_QUAD_CORNERY_XY: 705199.87300 4534679.94000
SW_QUAD_CORNER_XY: 699937.90100 4534535.05600
SECONDARY_NW_QUAD_XY: 699754.58600 4541262.13100
SECONDARY_NE_QUAD_XY: 705011.72700 4541407.06400
SECONDARY_SE_QUAD_XY: 705205.38800 4534468.22700
SECONDARY_SW_QUAD_XY: 699943.27500 4534323.33900
RMSE_XY: 1.87000
IMAGE_SOURCE: BLACK AND WHITE FILM
SOURCE_IMAGE_ID: NAPP 10507-187
SOURCE_IMAGE_DATE: 1998 8 25
SOURCE_DEM_DATE: 1997 7 1
AGENCY: WESTERN MAPPING CENTER (WMC)
PRODUCER: WOOLPERT LLP
PRODUCTION_SYSTEM: INTERGRAPH ISPM, ISIR
COMPRESSION: UNDEFINED
STANDARD_VERSION: 1996 12
METADATA_DATE: 2001 7 11
DATA_FILE_SIZE: 47418059
BYTE_COUNT: 6151
