FILENAME: 40120H54
QUADRANGLE_NAME: ANDERSON MOUNTAIN
QUADRANT: SW
WEST_LONGITUDE: -120 37 30.00000
EAST_LONGITUDE: -120 33 45.00000
NORTH_LATITUDE: 40 56 15.00000
SOUTH_LATITUDE: 40 52 30.00000
PRODUCTION_DATE: 2001 7 11
RASTER_ORDER: LEFT_RIGHT/TOP_BOTTOM
BAND_ORGANIZATION: SINGLE FILE
BAND_CONTENT: BLACK&WHITE
BAND_CONTENT: UNDEFINED
BAND_CONTENT: UNDEFINED
BITS_PER_PIXEL: 8
SAMPLES_AND_LINES: 6156 7708
HORIZONTAL_DATUM: NAD83
HORIZONTAL_COORDINATE_SYSTEM: UTM
COORDINATE_ZONE: 10
HORIZONTAL_UNITS: meters
HORIZONTAL_RESOLUTION: 1.00000
SECONDARY_HORIZONTAL_DATUM: NAD27
XY_ORIGIN: 699543.00000 4534985.00000
SECONDARY_XY_ORIGIN: 699637.78400 4534787.31600
NATION: US
STATE: CA
NW_QUAD_CORNER_XY: 699937.90100 4534535.05600
NE_QUAD_CORNER_XY: 705199.87300 4534679.94000
SE_QUAD_CORNERY_XY: 705393.29200 4527741.05500
SW_QUAD_CORNER_XY: 700126.35300 4527596.21600
SECONDARY_NW_QUAD_XY: 699943.27500 4534323.33900
SECONDARY_NE_QUAD_XY: 705205.38800 4534468.22700
SECONDARY_SE_QUAD_XY: 705398.80400 4527529.45300
SECONDARY_SW_QUAD_XY: 700131.72500 4527384.61000
RMSE_XY: 2.37000
IMAGE_SOURCE: BLACK AND WHITE FILM
SOURCE_IMAGE_ID: NAPP 10507-185
SOURCE_IMAGE_DATE: 1998 8 25
SOURCE_DEM_DATE: 1997 7 1
AGENCY: WESTERN MAPPING CENTER (WMC)
PRODUCER: WOOLPERT LLP
PRODUCTION_SYSTEM: INTERGRAPH ISPM, ISIR
COMPRESSION: UNDEFINED
STANDARD_VERSION: 1996 12
METADATA_DATE: 2001 7 11
DATA_FILE_SIZE: 47456604
BYTE_COUNT: 6156
