BEGIN_USGS_DOQ_HEADER *
QUADRANGLE_NAME "WHITINGER MOUNTAIN" 3.45 or 7.5-min. name*
QUADRANT NW quadrant indicator if cell size = 3.75-minutes*
WEST_LONGITUDE -120 45 0.000 signed deg min sec SDDD MM SS.SSS*
EAST_LONGITUDE -120 41 15.000 signed deg min sec SDDD MM SS.SSS*
NORTH_LATITUDE 41 0 0.000 signed deg min sec SDDD MM SS.SSS*
SOUTH_LATITUDE 40 56 15.000 signed deg min sec SDDD MM SS.SSS*
PRODUCTION_DATE 2000 12 7 yyyy mm dd*
RASTER_ORDER LEFT_RIGHT/TOP_BOTTOM video display order*
BAND_ORGANIZATION "SINGLE FILE" single file or BSQ, or BIL or BIP*
BAND_CONTENT BLACK&WHITE black&white or red green blue*
BITS_PER_PIXEL 8 radiometric resolution*
SAMPLES_AND_LINES 6133 7693 number of columns and rows*
HORIZONTAL_DATUM NAD83 primary horizontal datum*
HORIZONTAL_COORDINATE_SYSTEM UTM *
COORDINATE_ZONE 10 coordinate system zone number*
HORIZONTAL_UNITS METERS coordinate system units*
HORIZONTAL_RESOLUTION 1.00 pixel horiz. ground sample distance*
SECONDARY_HORIZONTAL_DATUM NAD27 secondary horizontal datum*
XY_ORIGIN 688844.000 4541633.000 coord. of upper left pixel pri. datum*
SECONDARY_XY_ORIGIN 688938.866 4541435.287 coord upper left pixel sec datum*
NATION US nation code*
STATE CA state fip code*
NW_QUAD_CORNER_XY 689235.310 4541195.407 XY coords. of pri. NW quad corner*
NE_QUAD_CORNER_XY 694492.243 4541332.798 XY coords. of pri. NE quad corner*
SE_QUAD_CORNER_XY 694675.963 4534393.940 XY coords. of pri. SE quad corner*
SW_QUAD_CORNER_XY 689414.058 4534256.592 XY coords. of pri. SW quad corner*
SECONDARY_NW_QUAD_XY 689240.404 4540983.573 XY coords. - sec. NW quad cor.*
SECONDARY_NE_QUAD_XY 694497.479 4541120.967 XY coords. - sec. NE quad cor.*
SECONDARY_SE_QUAD_XY 694681.195 4534182.219 XY coords. - sec. SE quad cor.*
SECONDARY_SW_QUAD_XY 689419.149 4534044.867 XY coords. - sec. SW quad cor.*
RMSE_XY 1.60 doq horiz. accuracy*
IMAGE_SOURCE "BLACK AND WHITE FILM" b&w, cir, natural color, other*
SOURCE_IMAGE_ID "NAPP 10507 025" source image id*
SOURCE_IMAGE_DATE 1998 08 25 source image date as yyyy mm dd*
SOURCE_DEM_DATE 2000 01 01 source dem date yyyy mm dd*
AGENCY "WESTERN MAPPING CENTER (WMC)" oversight agency*
PRODUCER "SCIENCE APPLICATIONS INTERNATIONAL" producer/contractor*
PRODUCTION_SYSTEM "GIS/MAGIC" production system*
STANDARD_VERSION 1996 12 version of DOQ standard*
METADATA_DATE 2000 12 12 date created or changed, yyyy mm dd*
DATA_FILE_SIZE 47187302 data set size in bytes*
BYTE_COUNT 6133 header byte count* * * * * * * * * * * * * * * * * * * * * * * * * * * * * * * * * *
END_USGS_HEADER *
